BEGIN:VCALENDAR
VERSION:2.0
PRODID:-//PIANYC - ECPv5.12.4//NONSGML v1.0//EN
CALSCALE:GREGORIAN
METHOD:PUBLISH
X-WR-CALNAME:PIANYC
X-ORIGINAL-URL:https://www.pianyc.net
X-WR-CALDESC:Events for PIANYC
BEGIN:VTIMEZONE
TZID:America/New_York
BEGIN:DAYLIGHT
TZOFFSETFROM:-0500
TZOFFSETTO:-0400
TZNAME:EDT
DTSTART:20220313T070000
END:DAYLIGHT
BEGIN:STANDARD
TZOFFSETFROM:-0400
TZOFFSETTO:-0500
TZNAME:EST
DTSTART:20221106T060000
END:STANDARD
END:VTIMEZONE
BEGIN:VEVENT
DTSTART;TZID=America/New_York:20221112T143000
DTEND;TZID=America/New_York:20221112T163000
DTSTAMP:20260420T084657
CREATED:20221102T160222Z
LAST-MODIFIED:20221102T160226Z
UID:140490-1668263400-1668270600@www.pianyc.net
SUMMARY:Silent Clowns Film Series: Charlie Chaplin at Bruno Walter Auditorium
DESCRIPTION:In the latest silent film series\, Silent Clowns\, with live piano accompaniment\, we pay tribute to Charlie Chaplin\, focusing on his second year in films\, at Essanay. Not content to have his screen character be a figure of fun\, this program of HIs New Job (1915)\, By the Sea (1915)\, The Bank (1915)\, and Police (1916) illustrates Charlie’s development into a comic underdog\, hero\, and lover. Chaplin’s inspiration and hard work produced films that remain fresh and funny for audiences of all ages. \nThe Silent Clowns Film Series is New York’s longest-running regularly scheduled silent film showcase. Our programming reaches the serious film buff by including rarely-screened titles and rare prints\, yet it has also introduced kids and new audiences to the classics of the silent screen. \nScreenings feature live piano accompaniment by MoMA’s Ben Model\, with an introduction and Q&A by film historians Model and Steve Massa.
URL:https://www.pianyc.net/event/silent-clowns-film-series-charlie-chaplin-at-bruno-walter-auditorium/
LOCATION:Bruno Walter Auditorium\, 40 Lincoln Center Plaza\, New York\, NY\, 10023\, United States
CATEGORIES:Film,Live Musical Performance
ATTACH;FMTTYPE=image/jpeg:https://img.evbuc.com/https%3A%2F%2Fcdn.evbuc.com%2Fimages%2F359545669%2F160842161651%2F1%2Foriginal.20220922-190722?w=1000&auto=format%2Ccompress&q=75&sharp=10&rect=0%2C74%2C1600%2C800&s=168bceb0bfa151c1d4ccdbf45eb0c709
GEO:40.7727831;-73.984202
X-APPLE-STRUCTURED-LOCATION;VALUE=URI;X-ADDRESS=Bruno Walter Auditorium 40 Lincoln Center Plaza New York NY 10023 United States;X-APPLE-RADIUS=500;X-TITLE=40 Lincoln Center Plaza:geo:-73.984202,40.7727831
END:VEVENT
END:VCALENDAR