BEGIN:VCALENDAR
VERSION:2.0
PRODID:-//PIANYC - ECPv5.12.4//NONSGML v1.0//EN
CALSCALE:GREGORIAN
METHOD:PUBLISH
X-WR-CALNAME:PIANYC
X-ORIGINAL-URL:https://www.pianyc.net
X-WR-CALDESC:Events for PIANYC
BEGIN:VTIMEZONE
TZID:America/New_York
BEGIN:DAYLIGHT
TZOFFSETFROM:-0500
TZOFFSETTO:-0400
TZNAME:EDT
DTSTART:20230312T070000
END:DAYLIGHT
BEGIN:STANDARD
TZOFFSETFROM:-0400
TZOFFSETTO:-0500
TZNAME:EST
DTSTART:20231105T060000
END:STANDARD
END:VTIMEZONE
BEGIN:VEVENT
DTSTART;TZID=America/New_York:20230807T193000
DTEND;TZID=America/New_York:20230807T210000
DTSTAMP:20260420T121115
CREATED:20230803T010012Z
LAST-MODIFIED:20230803T010012Z
UID:152793-1691436600-1691442000@www.pianyc.net
SUMMARY:Shy Kedmi "Dinner & Show" at Russian Samovar
DESCRIPTION:He obtained his BfA in Classical Piano from The City College of New York\, where he specialized in 19th-21st century music. His work has been acknowledged with the ASCAP-Chappell/City College Gershwin Award for Classical Composition presented by his teacher\, the renowned composer David Del Tredici. Shy’s music often merges modern Scandinavian aesthetics and the French impressionist compositional approach. This combination sets the tone for all his creative work: composition\, piano performance\, and arranging.
URL:https://www.pianyc.net/event/shy-kedmi-dinner-show-at-russian-samovar/
LOCATION:Russian Samovar Restaurant and Piano Bar\, 256 W 52nd St\, New York\, NY\, 10019\, United States
CATEGORIES:Live Musical Performance
ATTACH;FMTTYPE=image/jpeg:https://img.evbuc.com/https%3A%2F%2Fcdn.evbuc.com%2Fimages%2F550775779%2F527973834963%2F1%2Foriginal.20230707-215136?w=1000&auto=format%2Ccompress&q=75&sharp=10&rect=0%2C244%2C1028%2C514&s=18a3528c6e006279f09f5b4d40e68427
GEO:40.7631627;-73.984732
X-APPLE-STRUCTURED-LOCATION;VALUE=URI;X-ADDRESS=Russian Samovar Restaurant and Piano Bar 256 W 52nd St New York NY 10019 United States;X-APPLE-RADIUS=500;X-TITLE=256 W 52nd St:geo:-73.984732,40.7631627
END:VEVENT
END:VCALENDAR