BEGIN:VCALENDAR
VERSION:2.0
PRODID:-//PIANYC - ECPv5.12.4//NONSGML v1.0//EN
CALSCALE:GREGORIAN
METHOD:PUBLISH
X-WR-CALNAME:PIANYC
X-ORIGINAL-URL:https://www.pianyc.net
X-WR-CALDESC:Events for PIANYC
BEGIN:VTIMEZONE
TZID:America/New_York
BEGIN:DAYLIGHT
TZOFFSETFROM:-0500
TZOFFSETTO:-0400
TZNAME:EDT
DTSTART:20230312T070000
END:DAYLIGHT
BEGIN:STANDARD
TZOFFSETFROM:-0400
TZOFFSETTO:-0500
TZNAME:EST
DTSTART:20231105T060000
END:STANDARD
END:VTIMEZONE
BEGIN:VEVENT
DTSTART;TZID=America/New_York:20230412T200000
DTEND;TZID=America/New_York:20230412T213000
DTSTAMP:20260422T015905
CREATED:20220817T014712Z
LAST-MODIFIED:20220817T014712Z
UID:135262-1681329600-1681335000@www.pianyc.net
SUMMARY:Seong-Jin Cho Performs Schumann’s Symphonic Etudes at Carnegie Hall
DESCRIPTION:Following two sold-out performances\, Seong-Jin Cho returns for his third concert at Carnegie Hall. The “uncommonly sensitive and effective pianist” (The New York Times) begins the concert with a timeless suite by Handel\, aptly paired with Brahms’s quintessential Handel Variations. The program also includes R. Schumann’s Symphonic Etudes\, another effective set of musical variations that nicely complements the Brahms.
URL:https://www.pianyc.net/event/seong-jin-cho-performs-schumanns-symphonic-etudes-at-carnegie-hall/
LOCATION:Carnegie Hall\, 881 Seventh Avenue\, New York\, NY\, 10019\, United States
CATEGORIES:Live Musical Performance
ATTACH;FMTTYPE=image/jpeg:https://www.pianyc.net/wp-content/uploads/2022/08/cho.jpeg
GEO:40.764938;-73.979897
X-APPLE-STRUCTURED-LOCATION;VALUE=URI;X-ADDRESS=Carnegie Hall 881 Seventh Avenue New York NY 10019 United States;X-APPLE-RADIUS=500;X-TITLE=881 Seventh Avenue:geo:-73.979897,40.764938
END:VEVENT
END:VCALENDAR