BEGIN:VCALENDAR
VERSION:2.0
PRODID:-//PIANYC - ECPv5.12.4//NONSGML v1.0//EN
CALSCALE:GREGORIAN
METHOD:PUBLISH
X-WR-CALNAME:PIANYC
X-ORIGINAL-URL:https://www.pianyc.net
X-WR-CALDESC:Events for PIANYC
BEGIN:VTIMEZONE
TZID:America/New_York
BEGIN:DAYLIGHT
TZOFFSETFROM:-0500
TZOFFSETTO:-0400
TZNAME:EDT
DTSTART:20260308T070000
END:DAYLIGHT
BEGIN:STANDARD
TZOFFSETFROM:-0400
TZOFFSETTO:-0500
TZNAME:EST
DTSTART:20261101T060000
END:STANDARD
END:VTIMEZONE
BEGIN:VEVENT
DTSTART;TZID=America/New_York:20260412T190000
DTEND;TZID=America/New_York:20260412T203000
DTSTAMP:20260423T122237
CREATED:20260225T145722Z
LAST-MODIFIED:20260226T174313Z
UID:197399-1776020400-1776025800@www.pianyc.net
SUMMARY:Seiji Nakanishi\, Piano; ​Kanji Nakanishi\, Violin; Pi-Wei Lin\, Cello\, at Carnegie Hall
DESCRIPTION:CHORD / CHAOS / CHORD is a piano trio concert that traces a journey from harmony through chaos and back to harmony. Pianist Seiji Nakanishi\, violinist Kanji Nakanishi\, and cellist Pi-Wei Lin—musicians from different countries and cultures—come together to perform works by Hindemith\, Prokofiev\, and Beethoven. The program reflects the belief that music can carry hope\, offer peace\, and connect us beyond words—not as an escape\, but as a shared passage through sound. \nGet Tickets\nTickets start at $91 ($80 + $11 fee)\nView Seating Chart (PDF) \nProgram\nGRIEG Andante con moto\, EG 116\nHINDEMITH Three Pieces for Cello and Piano\, Op. 8\nPROKOFIEV Violin Sonata No. 2 in D Major\, Op. 94bis\nBEETHOVEN Piano Trio in E-flat Major\, Op. 1\, No. 1
URL:https://www.pianyc.net/event/seiji-nakanishi-piano-kanji-nakanishi-violin-pi-wei-lin-cello-at-carnegie-hall/
LOCATION:Carnegie Hall\, 881 Seventh Avenue\, New York\, NY\, 10019\, United States
CATEGORIES:Live Musical Performance
ATTACH;FMTTYPE=image/jpeg:https://carnegiehall.imgix.net:443/-/media/CarnegieHall/Images/Events/2025-2026-Rentals/2026-04-12-ZH-Seiji-Nakanishi.jpg
GEO:40.764938;-73.979897
X-APPLE-STRUCTURED-LOCATION;VALUE=URI;X-ADDRESS=Carnegie Hall 881 Seventh Avenue New York NY 10019 United States;X-APPLE-RADIUS=500;X-TITLE=881 Seventh Avenue:geo:-73.979897,40.764938
END:VEVENT
END:VCALENDAR