BEGIN:VCALENDAR
VERSION:2.0
PRODID:-//PIANYC - ECPv5.12.4//NONSGML v1.0//EN
CALSCALE:GREGORIAN
METHOD:PUBLISH
X-WR-CALNAME:PIANYC
X-ORIGINAL-URL:https://www.pianyc.net
X-WR-CALDESC:Events for PIANYC
BEGIN:VTIMEZONE
TZID:America/New_York
BEGIN:DAYLIGHT
TZOFFSETFROM:-0500
TZOFFSETTO:-0400
TZNAME:EDT
DTSTART:20250309T070000
END:DAYLIGHT
BEGIN:STANDARD
TZOFFSETFROM:-0400
TZOFFSETTO:-0500
TZNAME:EST
DTSTART:20251102T060000
END:STANDARD
END:VTIMEZONE
BEGIN:VEVENT
DTSTART;TZID=America/New_York:20251022T180000
DTEND;TZID=America/New_York:20251022T210000
DTSTAMP:20260423T093648
CREATED:20250903T234229Z
LAST-MODIFIED:20251001T193423Z
UID:187504-1761156000-1761166800@www.pianyc.net
SUMMARY:Sarah Jane Cion Trio at Mezzrow (Early and Late Shows)
DESCRIPTION:Sarah Jane Cion Trio\nDoors open at 5:30 pm\nLive at Mezzrow\nSets at 6:00PM 7:30PM \nPersonnel\nSarah Jane Cion / Piano \nThis event is recurring on the following dates:\nWed\, Oct 22 at 06:00 PM\nWed\, Oct 22 at 07:30 PM
URL:https://www.pianyc.net/event/sarah-jane-cion-trio-at-mezzrow-early-and-late-shows/
LOCATION:Mezzrow\, 163 W 10th St\, New York\, NY\, 10014\, United States
CATEGORIES:Live Musical Performance
ATTACH;FMTTYPE=image/jpeg:https://www.pianyc.net/wp-content/uploads/2025/09/smalls_mezzrow_Sarah_Jane_Cion_IJ3qUg9_Paz5cue.jpg
GEO:40.7345655;-74.0019412
X-APPLE-STRUCTURED-LOCATION;VALUE=URI;X-ADDRESS=Mezzrow 163 W 10th St New York NY 10014 United States;X-APPLE-RADIUS=500;X-TITLE=163 W 10th St:geo:-74.0019412,40.7345655
END:VEVENT
END:VCALENDAR