BEGIN:VCALENDAR
VERSION:2.0
PRODID:-//PIANYC - ECPv5.12.4//NONSGML v1.0//EN
CALSCALE:GREGORIAN
METHOD:PUBLISH
X-WR-CALNAME:PIANYC
X-ORIGINAL-URL:https://www.pianyc.net
X-WR-CALDESC:Events for PIANYC
BEGIN:VTIMEZONE
TZID:America/New_York
BEGIN:DAYLIGHT
TZOFFSETFROM:-0500
TZOFFSETTO:-0400
TZNAME:EDT
DTSTART:20250309T070000
END:DAYLIGHT
BEGIN:STANDARD
TZOFFSETFROM:-0400
TZOFFSETTO:-0500
TZNAME:EST
DTSTART:20251102T060000
END:STANDARD
END:VTIMEZONE
BEGIN:VEVENT
DTSTART;TZID=America/New_York:20251018T193000
DTEND;TZID=America/New_York:20251018T193000
DTSTAMP:20260423T000741
CREATED:20250827T013734Z
LAST-MODIFIED:20250904T012039Z
UID:186520-1760815800-1760815800@www.pianyc.net
SUMMARY:Samora Pinderhughes\, Piano And Voice at Merkin Concert Hall at Kaufman Music Center
DESCRIPTION:BRIDGES\nThe composer/pianist/vocalist and multidisciplinary artist known for striking intimacy and carefully crafted\, radically honest lyrics shares a unique and powerful evening of song together with students from Kaufman Music Center and the John J. Cali School of Music.
URL:https://www.pianyc.net/event/samora-pinderhughes-piano-and-voice-at-merkin-concert-hall-at-kaufman-music-center/
LOCATION:Merkin Concert Hall at Kaufman Music Center\, 129 W 67th St\, New York\, NY\, 10036\, United States
CATEGORIES:Live Musical Performance
ATTACH;FMTTYPE=image/jpeg:https://www.kaufmanmusiccenter.org/images/uploads/events/_medium/Samora-Pinderhughes_-_1200x1200.jpg
GEO:40.7752368;-73.9830916
X-APPLE-STRUCTURED-LOCATION;VALUE=URI;X-ADDRESS=Merkin Concert Hall at Kaufman Music Center 129 W 67th St New York NY 10036 United States;X-APPLE-RADIUS=500;X-TITLE=129 W 67th St:geo:-73.9830916,40.7752368
END:VEVENT
END:VCALENDAR