BEGIN:VCALENDAR
VERSION:2.0
PRODID:-//PIANYC - ECPv5.12.4//NONSGML v1.0//EN
CALSCALE:GREGORIAN
METHOD:PUBLISH
X-WR-CALNAME:PIANYC
X-ORIGINAL-URL:https://www.pianyc.net
X-WR-CALDESC:Events for PIANYC
BEGIN:VTIMEZONE
TZID:America/New_York
BEGIN:DAYLIGHT
TZOFFSETFROM:-0500
TZOFFSETTO:-0400
TZNAME:EDT
DTSTART:20230312T070000
END:DAYLIGHT
BEGIN:STANDARD
TZOFFSETFROM:-0400
TZOFFSETTO:-0500
TZNAME:EST
DTSTART:20231105T060000
END:STANDARD
END:VTIMEZONE
BEGIN:VEVENT
DTSTART;TZID=America/New_York:20231210T183000
DTEND;TZID=America/New_York:20231210T213000
DTSTAMP:20260422T080241
CREATED:20230831T114558Z
LAST-MODIFIED:20231209T111837Z
UID:153656-1702233000-1702243800@www.pianyc.net
SUMMARY:Salon 58 features Aaron Diehl Trio in Midtown
DESCRIPTION:Incredible jazz performance by the Aaron Diehl Trio! Get ready for an unforgettable evening of soulful tunes and mesmerizing melodies. Join on Sunday\, December 10\, 2023 for an in-person experience you won’t want to miss. Immerse yourself in the captivating sounds of Aaron Diehl’s piano\, accompanied by his talented trio. Let the music transport you to a world of rhythm and harmony. Mark your calendars and be prepared to be blown away by this exceptional live event! \nhttps://www.aarondiehl.com/ \nhttps://www.youtube.com/user/ADSwing85
URL:https://www.pianyc.net/event/salon-58-features-aaron-diehl-trio-at-midtown/
LOCATION:Midtown\, New York\, NY\, United States
CATEGORIES:Live Musical Performance
ATTACH;FMTTYPE=image/jpeg:https://img.evbuc.com/https%3A%2F%2Fcdn.evbuc.com%2Fimages%2F576454489%2F370917392133%2F1%2Foriginal.20230816-095928?w=1000&auto=format%2Ccompress&q=75&sharp=10&rect=0%2C480%2C5760%2C2880&s=4d5aeb8836358313b8f5ede151cc9a16
GEO:40.7127753;-74.0059728
END:VEVENT
END:VCALENDAR