BEGIN:VCALENDAR
VERSION:2.0
PRODID:-//PIANYC - ECPv5.12.4//NONSGML v1.0//EN
CALSCALE:GREGORIAN
METHOD:PUBLISH
X-WR-CALNAME:PIANYC
X-ORIGINAL-URL:https://www.pianyc.net
X-WR-CALDESC:Events for PIANYC
BEGIN:VTIMEZONE
TZID:America/New_York
BEGIN:DAYLIGHT
TZOFFSETFROM:-0500
TZOFFSETTO:-0400
TZNAME:EDT
DTSTART:20240310T070000
END:DAYLIGHT
BEGIN:STANDARD
TZOFFSETFROM:-0400
TZOFFSETTO:-0500
TZNAME:EST
DTSTART:20241103T060000
END:STANDARD
END:VTIMEZONE
BEGIN:VEVENT
DTSTART;TZID=America/New_York:20241124T170000
DTEND;TZID=America/New_York:20241124T183000
DTSTAMP:20260422T141007
CREATED:20241107T024025Z
LAST-MODIFIED:20241107T024025Z
UID:173626-1732467600-1732473000@www.pianyc.net
SUMMARY:Ruby Dibble\, Mezzo-Soprano; Francesco Barfoed\, Piano at St. Paul & St. Andrew United Methodist Church
DESCRIPTION:Performers\nRuby Dibble\, Mezzo-Soprano\nFrancesco Barfoed\, Piano \nEnjoy a free\, Sunday-evening performance by lyric mezzo-soprano Ruby Dibble\, whose “powerful voice” and “captivating presence” (OperaWire) enthralls audiences. She is joined by pianist Francesco Barfoed\, a fellow rising artist in opera and vocal music. In recent years\, Carnegie Hall audiences have enjoyed a small preview of both musicians’ gifts during SongStudio master classes and culminating Young Artists Recitals\, led by Renée Fleming\, Anthony Roth Costanzo\, and others. This Carnegie Hall Citywide performance is your chance to hear a full program curated by these exciting young performers. \n 
URL:https://www.pianyc.net/event/ruby-dibble-mezzo-soprano-francesco-barfoed-piano-at-st-paul-st-andrew-united-methodist-church/
LOCATION:St. Paul & St. Andrew United Methodist Church\, 263 W 86th St\, New York\, NY\, 10024\, United States
CATEGORIES:Live Musical Performance
ATTACH;FMTTYPE=image/jpeg:https://carnegiehall.imgix.net:443/-/media/CarnegieHall/Images/Events/2024-2025-CH-Presents/2024-11-24-Citywide-Dibble-Barfoed.jpg
GEO:40.7889677;-73.9772637
X-APPLE-STRUCTURED-LOCATION;VALUE=URI;X-ADDRESS=St. Paul & St. Andrew United Methodist Church 263 W 86th St New York NY 10024 United States;X-APPLE-RADIUS=500;X-TITLE=263 W 86th St:geo:-73.9772637,40.7889677
END:VEVENT
END:VCALENDAR