BEGIN:VCALENDAR
VERSION:2.0
PRODID:-//PIANYC - ECPv5.12.4//NONSGML v1.0//EN
CALSCALE:GREGORIAN
METHOD:PUBLISH
X-WR-CALNAME:PIANYC
X-ORIGINAL-URL:https://www.pianyc.net
X-WR-CALDESC:Events for PIANYC
BEGIN:VTIMEZONE
TZID:America/New_York
BEGIN:DAYLIGHT
TZOFFSETFROM:-0500
TZOFFSETTO:-0400
TZNAME:EDT
DTSTART:20240310T070000
END:DAYLIGHT
BEGIN:STANDARD
TZOFFSETFROM:-0400
TZOFFSETTO:-0500
TZNAME:EST
DTSTART:20241103T060000
END:STANDARD
END:VTIMEZONE
BEGIN:VEVENT
DTSTART;TZID=America/New_York:20241022T190000
DTEND;TZID=America/New_York:20241022T213000
DTSTAMP:20260422T114525
CREATED:20240914T163147Z
LAST-MODIFIED:20240914T163147Z
UID:170977-1729623600-1729632600@www.pianyc.net
SUMMARY:Ron Carter and Bill Charlap (Early & Late Shows)\, at Birdland
DESCRIPTION:Early – 8.30pm\nLate – 10.30pm \nRON CARTER is among the most original\, prolific\, and influential bassists in jazz. He has recorded over 2200 albums\, and has a Guinness world record to prove it! \nIn Jazz: From 1963 to 1968\, he was a member of the acclaimed Miles Davis Quintet. Over his 60 year career\, he has recorded with so many of the jazz greats greats: Lena Horne\, Bill Evans\, B.B. King\, Dexter Gordon\, Wes Montgomery\, Bobby Timmons\, Eric Dolphy\, Cannonball Adderley and Jaki Byard to name a few. He can be heard on many iconic jazz records of the 60’s and 70’s such as Speak No Evil\, Maiden Voyage\, Red Clay\, Speak Like a Child\, Nefertiti and Miles Smiles\, to name a few. \nBILL CHARLAP: Grammy award winning pianist Bill Charlap has performed with many of the leading artists of our time including Phil Woods\, Tony Bennett\, Gerry Mulligan\, Wynton Marsalis\, Freddy Cole and Houston Person. Born in New York City\, Charlap began playing the piano at age three. His father was Broadway composer Moose Charlap\, whose credits include Peter Pan\, and his mother is singer Sandy Stewart\, who toured with Benny Goodman\, and was a regular on the Perry Como show. She earned a 1963 Grammy nomination for her recording of “My Coloring Book.” In 2005\, Charlap and Stewart released the acclaimed CD\, Love Is Here To Stay (Blue Note). \nIn 1997\, Charlap formed his trio with bassist Peter Washington and drummer Kenny Washington\, now recognized as one of the leading groups in jazz. In 2000\, he was signed to Blue Note Records and received two Grammy Award nominations\, for Somewhere: The Songs of Leonard Bernstein and The Bill Charlap Trio: Live at the Village Vanguard. He is known for his interpretations of American popular song.. Time magazine wrote\, “Bill Charlap approaches a song the way a lover approaches his beloved…no matter how imaginative or surprising his take on a song is\, he invariably zeroes in on its essence.” In 2016\, Tony Bennett & Bill Charlap: The Silver Lining\, The Songs of Jerome Kern\, was awarded a Grammy for Best Traditional Pop Album. In April\, the Bill Charlap Trio released\, Notes from New York\, their debut recording for the Impulse label. Alan Morrison’s five-star review in Down Beat stated that the new recording is “a masterclass in class.”
URL:https://www.pianyc.net/event/ron-carter-and-bill-charlap-early-late-shows-at-birdland/
LOCATION:Birdland\, 315 West 44th Street\, New York\, NY\, 10036\, United States
CATEGORIES:Live Musical Performance
ATTACH;FMTTYPE=image/jpeg:https://i.ticketweb.com/i/00/12/35/16/13_Original.jpg?v=5
GEO:40.759194;-73.9898
X-APPLE-STRUCTURED-LOCATION;VALUE=URI;X-ADDRESS=Birdland 315 West 44th Street New York NY 10036 United States;X-APPLE-RADIUS=500;X-TITLE=315 West 44th Street:geo:-73.9898,40.759194
END:VEVENT
END:VCALENDAR