BEGIN:VCALENDAR
VERSION:2.0
PRODID:-//PIANYC - ECPv5.12.4//NONSGML v1.0//EN
CALSCALE:GREGORIAN
METHOD:PUBLISH
X-WR-CALNAME:PIANYC
X-ORIGINAL-URL:https://www.pianyc.net
X-WR-CALDESC:Events for PIANYC
BEGIN:VTIMEZONE
TZID:America/New_York
BEGIN:DAYLIGHT
TZOFFSETFROM:-0500
TZOFFSETTO:-0400
TZNAME:EDT
DTSTART:20220313T070000
END:DAYLIGHT
BEGIN:STANDARD
TZOFFSETFROM:-0400
TZOFFSETTO:-0500
TZNAME:EST
DTSTART:20221106T060000
END:STANDARD
END:VTIMEZONE
BEGIN:VEVENT
DTSTART;TZID=America/New_York:20220818T193000
DTEND;TZID=America/New_York:20220818T203000
DTSTAMP:20260421T120906
CREATED:20220809T234954Z
LAST-MODIFIED:20220809T235024Z
UID:134787-1660851000-1660854600@www.pianyc.net
SUMMARY:Roberta Piket\, Harvie S and Billy Mintz at Mezzrow
DESCRIPTION:Performers \nRoberta Piket / Piano\nHarvie S / Bass\nBilly Mintz / Drums \nPianist/composer Roberta Piket is one of a handful of New York musicians who is respected for both her swinging and inventive straight-ahead jazz playing as well as her powerful and sensitive work in creative improvised music. For Roberta\, there are no genre boundaries\, only exceptional music to be made. Roberta has played professionally as a sidewoman with David Liebman\, Rufus Reid\, Michael Formanek\, Lionel Hampton\, Mickey Roker\, Billy Mintz\, Harvey Wainapel\, Eliot Zigmund\, Benny Golson and the BMI/NY Jazz Orchestra and has thrice been a featured guest on Marian McPartland’s Piano Jazz\, on National Public Radio. She has also performed with some of the most interesting musicians in European and American creative music\, including drummers Klaus Kugel and Billy Mintz\, and saxophonists Petras Vysniauskas\, Roby Glod and Louie Belogenis. A gifted composer as well\, Roberta was a finalist in the Thelonious Monk BMI Composers’ Competition. Roberta is from Queens\, NY. Her father\, the composer Frederick Piket\, gave her her first piano lessons when she was seven. Roberta began playing jazz in her early teens\, studying jazz piano with Walter Bishop\, Jr and classical piano with Vera Wels. After graduating from prestigious Hunter College High School\, she entered the joint double-degree program at Tufts University and the New England Conservatory of Music\, earning a Bachelor’s Degree in Computer Science from the former and a Bachelor’s Degree in Jazz Studies from the latter.
URL:https://www.pianyc.net/event/roberta-piket-harvie-s-and-billy-mintz-at-mezzrow/2022-08-18/
LOCATION:Mezzrow\, 163 W 10th St\, New York\, NY\, 10014\, United States
CATEGORIES:Live Musical Performance
ATTACH;FMTTYPE=image/jpeg:https://www.pianyc.net/wp-content/uploads/2022/08/roberta.jpeg
GEO:40.7345655;-74.0019412
X-APPLE-STRUCTURED-LOCATION;VALUE=URI;X-ADDRESS=Mezzrow 163 W 10th St New York NY 10014 United States;X-APPLE-RADIUS=500;X-TITLE=163 W 10th St:geo:-74.0019412,40.7345655
END:VEVENT
END:VCALENDAR