BEGIN:VCALENDAR
VERSION:2.0
PRODID:-//PIANYC - ECPv5.12.4//NONSGML v1.0//EN
CALSCALE:GREGORIAN
METHOD:PUBLISH
X-WR-CALNAME:PIANYC
X-ORIGINAL-URL:https://www.pianyc.net
X-WR-CALDESC:Events for PIANYC
BEGIN:VTIMEZONE
TZID:America/New_York
BEGIN:DAYLIGHT
TZOFFSETFROM:-0500
TZOFFSETTO:-0400
TZNAME:EDT
DTSTART:20240310T070000
END:DAYLIGHT
BEGIN:STANDARD
TZOFFSETFROM:-0400
TZOFFSETTO:-0500
TZNAME:EST
DTSTART:20241103T060000
END:STANDARD
END:VTIMEZONE
BEGIN:VEVENT
DTSTART;TZID=America/New_York:20241103T200000
DTEND;TZID=America/New_York:20241103T233000
DTSTAMP:20260420T101256
CREATED:20241028T021122Z
LAST-MODIFIED:20241028T021122Z
UID:173201-1730664000-1730676600@www.pianyc.net
SUMMARY:Robert Glasper X Stokley at Blue Note (Early and Late Shows)
DESCRIPTION:Chris Dave\, Burniss Travis\, DJ Jahi Sundance \n$20 Minimum Per Person\nFull Bar & Dinner Menu\nNO REFUNDS OR EXCHANGES. \n\nAll seating is first come\, first served.\nBar Area seating is limited and first come first served. When all available seats are occupied\, the remaining bar area is standing room only.\nTable Seating is all ages\, Bar Area is 21+. Bar Area tickets for patrons under 21 will not be honored.\n\nGroup Reservations: \n\nGroups larger than 8 must purchase a group package at club@bluenote.net\, or by calling 212.475.8592.\nGroups larger than 8 without a group package will be subject to group surcharges added to your bill.\nGroups arriving late or separately are not guaranteed to be seated together. All seating is first come\, first served. Arrive early for best seats.\n\nTickets for Blue Note New York shows are only available for purchase on Ticketweb. We are not affiliated with any third-party sellers. Tickets purchased on third-party sites will not be honored. The credit card used for original purchase of tickets will be required at the door upon entry. \n\n\n\nThis is a recurring event. All dates:\nFri\, Nov 01 at 08:00 PM\nFri\, Nov 01 at 10:30 PM\nSat\, Nov 02 at 08:00 PM\nSat\, Nov 02 at 10:30 PM\nSun\, Nov 03 at 08:00 PM\nSun\, Nov 03 at 10:30 PM
URL:https://www.pianyc.net/event/robert-glasper-x-stokley-at-blue-note-early-and-late-shows-3/
LOCATION:Blue Note\, 131 W 3rd St\, New York\, NY\, 10012\, United States
CATEGORIES:Live Musical Performance
ATTACH;FMTTYPE=image/jpeg:https://i.ticketweb.com/i/00/12/60/78/53_Edp.jpg
GEO:40.7309369;-74.0006335
X-APPLE-STRUCTURED-LOCATION;VALUE=URI;X-ADDRESS=Blue Note 131 W 3rd St New York NY 10012 United States;X-APPLE-RADIUS=500;X-TITLE=131 W 3rd St:geo:-74.0006335,40.7309369
END:VEVENT
END:VCALENDAR