BEGIN:VCALENDAR
VERSION:2.0
PRODID:-//PIANYC - ECPv5.12.4//NONSGML v1.0//EN
CALSCALE:GREGORIAN
METHOD:PUBLISH
X-WR-CALNAME:PIANYC
X-ORIGINAL-URL:https://www.pianyc.net
X-WR-CALDESC:Events for PIANYC
BEGIN:VTIMEZONE
TZID:America/New_York
BEGIN:DAYLIGHT
TZOFFSETFROM:-0500
TZOFFSETTO:-0400
TZNAME:EDT
DTSTART:20250309T070000
END:DAYLIGHT
BEGIN:STANDARD
TZOFFSETFROM:-0400
TZOFFSETTO:-0500
TZNAME:EST
DTSTART:20251102T060000
END:STANDARD
END:VTIMEZONE
BEGIN:VEVENT
DTSTART;TZID=America/New_York:20251009T200000
DTEND;TZID=America/New_York:20251009T213000
DTSTAMP:20260422T121123
CREATED:20251009T171754Z
LAST-MODIFIED:20251009T171900Z
UID:189223-1760040000-1760045400@www.pianyc.net
SUMMARY:Robert Glasper X Emily King at Blue Note
DESCRIPTION:Full Bar & Dinner Menu Available \n$20 Minimum per Person \nSeating is First Come\, First Served. Please come early for best seats to ensure that your party is seated together. \nBar Area seating is limited and first come first served. When all available seats are occupied\, the remaining bar area is standing room only. \nTable Seating is All-Ages\, 21+ at the Bar. Please do not purchase Bar Area tickets if you are not 21 years old. Your ticket will not be honored. \nNo refunds or exchanges. \nPlease make sure you purchase tickets for the correct date and time. \nTickets for Blue Note New York shows are only available for purchase on Ticketweb. We are not affiliated with any third-party sellers. Tickets purchased on third-party sites will not be honored. The credit card used for original purchase of tickets will be required at the door upon entry. \nRobert Glasper\nRobert Glasper is a genre-defying pianist\, producer\, and composer celebrated for blending jazz\, R&B\, and hip-hop in groundbreaking ways. With a rich catalog that includes iconic albums like Black Radio and its sequels\, Glasper has redefined contemporary jazz. In 2024 & 2025\, he released four new albums — Let Go\, Code Derivation\, Keys to the City: Volume 1\, and a holiday album\, In December—continuing his streak of innovative music. Glasper is a mainstay at New York’s Blue Note Jazz Club\, where his acclaimed “Robtober” residency\, which is about to embark on its 7th year\, showcases the spontaneous alchemy of his collaborations in an intimate and legendary space. His partnership with the Blue Note has never been more culturally impactful\, highlighted by the success of his Black Radio Experience in Napa Valley and partnering on the opening of the brand new Blue Note Los Angeles club.  Beyond the stage\, his vast contributions to film scoring\, including films The Photograph\, Luther: Never Too Much and Miles Ahead\, and Emmy-nominated series Winning Time\, demonstrate his versatility as a musician. A five-time Grammy award winner with an additional 15 nominations\, an Emmy award and Peabody award winner\, Glasper’s accolades underscore his impact on modern music\, cementing his legacy as a boundary-pushing artist and cultural icon. \n\nOfficial Website\nFacebook\nX\nInstagram\n\nEmily King\n4 time Grammy nominated songwriter and singer Emily King was born and raised in New York City’s lower east side. She began her career playing venues in Greenwich village and was soon after discovered by Clive Davis who signed her to his J Records label at the age of 21. \nKing has toured extensively most recently headlining her European tour as well as performing alongside Norah Jones. \n\nFacebook\nX\nInstagram\nYoutube\nSpotify\n\nThis event is recurring on the following dates:\nThu\, Oct 09 at 08:00 PM\nThu\, Oct 09 at 10:30 PM\nFri\, Oct 10 at 08:00 PM\nFri\, Oct 10 at 10:30 PM
URL:https://www.pianyc.net/event/robert-glasper-x-emily-king-at-blue-note/
LOCATION:Blue Note\, 131 W 3rd St\, New York\, NY\, 10012\, United States
CATEGORIES:Live Musical Performance
ATTACH;FMTTYPE=image/jpeg:https://i.ticketweb.com/i/00/13/14/09/03_Edp.jpg
GEO:40.7309369;-74.0006335
X-APPLE-STRUCTURED-LOCATION;VALUE=URI;X-ADDRESS=Blue Note 131 W 3rd St New York NY 10012 United States;X-APPLE-RADIUS=500;X-TITLE=131 W 3rd St:geo:-74.0006335,40.7309369
END:VEVENT
END:VCALENDAR