BEGIN:VCALENDAR
VERSION:2.0
PRODID:-//PIANYC - ECPv5.12.4//NONSGML v1.0//EN
CALSCALE:GREGORIAN
METHOD:PUBLISH
X-WR-CALNAME:PIANYC
X-ORIGINAL-URL:https://www.pianyc.net
X-WR-CALDESC:Events for PIANYC
BEGIN:VTIMEZONE
TZID:America/New_York
BEGIN:DAYLIGHT
TZOFFSETFROM:-0500
TZOFFSETTO:-0400
TZNAME:EDT
DTSTART:20250309T070000
END:DAYLIGHT
BEGIN:STANDARD
TZOFFSETFROM:-0400
TZOFFSETTO:-0500
TZNAME:EST
DTSTART:20251102T060000
END:STANDARD
END:VTIMEZONE
BEGIN:VEVENT
DTSTART;TZID=America/New_York:20250706T200000
DTEND;TZID=America/New_York:20250706T233000
DTSTAMP:20260422T095552
CREATED:20250628T021432Z
LAST-MODIFIED:20250628T022604Z
UID:182946-1751832000-1751844600@www.pianyc.net
SUMMARY:Robert Glasper Solo at Blue Note (Early and Late Shows)
DESCRIPTION:Robert Glasper is the leader of a new sonic paradigm with a career that bridges musical and artistic genres. To date\, he boasts 5 Grammy wins and 12 nominations across 11 categories\, an Emmy Award for his song for Ava Duvernay’s critically hailed documentary “13th” with Common and Karriem Riggins\, and a Peabody Award for his Composition of “Mr. Soul!”. His work and accolades bridge all aspects of the music business\, from live touring to film scoring\, composing and producing.
URL:https://www.pianyc.net/event/robert-glasper-solo-at-blue-note-early-and-late-shows/2025-07-06/
LOCATION:Blue Note\, 131 W 3rd St\, New York\, NY\, 10012\, United States
CATEGORIES:Live Musical Performance
ATTACH;FMTTYPE=image/jpeg:https://i.ticketweb.com/i/00/12/53/04/74_Edp.jpg
GEO:40.7309369;-74.0006335
X-APPLE-STRUCTURED-LOCATION;VALUE=URI;X-ADDRESS=Blue Note 131 W 3rd St New York NY 10012 United States;X-APPLE-RADIUS=500;X-TITLE=131 W 3rd St:geo:-74.0006335,40.7309369
END:VEVENT
END:VCALENDAR