BEGIN:VCALENDAR
VERSION:2.0
PRODID:-//PIANYC - ECPv5.12.4//NONSGML v1.0//EN
CALSCALE:GREGORIAN
METHOD:PUBLISH
X-WR-CALNAME:PIANYC
X-ORIGINAL-URL:https://www.pianyc.net
X-WR-CALDESC:Events for PIANYC
BEGIN:VTIMEZONE
TZID:America/New_York
BEGIN:DAYLIGHT
TZOFFSETFROM:-0500
TZOFFSETTO:-0400
TZNAME:EDT
DTSTART:20230312T070000
END:DAYLIGHT
BEGIN:STANDARD
TZOFFSETFROM:-0400
TZOFFSETTO:-0500
TZNAME:EST
DTSTART:20231105T060000
END:STANDARD
END:VTIMEZONE
BEGIN:VEVENT
DTSTART;TZID=America/New_York:20230318T193000
DTEND;TZID=America/New_York:20230318T193000
DTSTAMP:20260421T120656
CREATED:20230311T193339Z
LAST-MODIFIED:20230312T164715Z
UID:146981-1679167800-1679167800@www.pianyc.net
SUMMARY:Rick Germanson & Gerald Cannon at Mezzrow
DESCRIPTION:Performers: \nRick Germanson / Piano\nGerald Cannon / Bass
URL:https://www.pianyc.net/event/rick-germanson-gerald-cannon-at-mezzrow-2/2023-03-18/
LOCATION:Mezzrow\, 163 W 10th St\, New York\, NY\, 10014\, United States
CATEGORIES:Live Musical Performance
ATTACH;FMTTYPE=image/jpeg:https://d95vll9kevyvb.cloudfront.net/NpiqtmbpXYZHfUC8pXm0VswSgIw=/2x0:293x201/600x600/https%3A//smallslivestatic.s3.amazonaws.com/images/DSC_0138a.jpg
GEO:40.7345655;-74.0019412
X-APPLE-STRUCTURED-LOCATION;VALUE=URI;X-ADDRESS=Mezzrow 163 W 10th St New York NY 10014 United States;X-APPLE-RADIUS=500;X-TITLE=163 W 10th St:geo:-74.0019412,40.7345655
END:VEVENT
END:VCALENDAR