BEGIN:VCALENDAR
VERSION:2.0
PRODID:-//PIANYC - ECPv5.12.4//NONSGML v1.0//EN
CALSCALE:GREGORIAN
METHOD:PUBLISH
X-WR-CALNAME:PIANYC
X-ORIGINAL-URL:https://www.pianyc.net
X-WR-CALDESC:Events for PIANYC
BEGIN:VTIMEZONE
TZID:America/New_York
BEGIN:DAYLIGHT
TZOFFSETFROM:-0500
TZOFFSETTO:-0400
TZNAME:EDT
DTSTART:20260308T070000
END:DAYLIGHT
BEGIN:STANDARD
TZOFFSETFROM:-0400
TZOFFSETTO:-0500
TZNAME:EST
DTSTART:20261101T060000
END:STANDARD
END:VTIMEZONE
BEGIN:VEVENT
DTSTART;TZID=America/New_York:20260208T140000
DTEND;TZID=America/New_York:20260208T153000
DTSTAMP:20260420T072442
CREATED:20250623T001622Z
LAST-MODIFIED:20250626T204329Z
UID:182732-1770559200-1770564600@www.pianyc.net
SUMMARY:Richard O’Neill\, Viola & Garrick Ohlsson\, Piano\, at 92nd Street Y
DESCRIPTION:Grammy Award-winning soloist and violist with the world-renowned Takács Quartet Richard O’Neill joins eminent pianist Garrick Ohlsson for a rare program of viola-piano duets and solos. \nHailed by theTimes(London) for his “ravishing” playing\, O’Neill is quickly establishing himself as one of the great instrumentalists of his generation\, collaborating with esteemed artists including Danil Trifonov\, Emanuel Ax\, Steven Isserlis\, and others\, and raising the profile of his instrument in the concert space. Ohlsson\, who last appeared at 92NY in a stunning all-Chopin recital in 2023\, is an avid chamber musician and a joy to experience in this setting. Hear O’Neill and Ohlsson in an afternoon of exquisite music-making\, with repertoire gems including Schubert’s lyrical “Arpeggione” Sonata and Rachmaninoff’s lush Cello Sonata – sublime and revelatory in the viola transcription. \nOnline streaming also available for 72 hours following the performance.
URL:https://www.pianyc.net/event/richard-oneill-viola-garrick-ohlsson-piano-at-92nd-street-y/
LOCATION:92nd Street Y\, 1395 Lexington Ave\, New York\, NY\, 10128\, United States
CATEGORIES:Live Musical Performance
ATTACH;FMTTYPE=image/jpeg:https://ny92-stage.imgix.net/92ny/arts%20and%20culture/concerts/events/o-neill-ohlsson-2.jpg
GEO:40.7829338;-73.9525147
X-APPLE-STRUCTURED-LOCATION;VALUE=URI;X-ADDRESS=92nd Street Y 1395 Lexington Ave New York NY 10128 United States;X-APPLE-RADIUS=500;X-TITLE=1395 Lexington Ave:geo:-73.9525147,40.7829338
END:VEVENT
END:VCALENDAR