BEGIN:VCALENDAR
VERSION:2.0
PRODID:-//PIANYC - ECPv5.12.4//NONSGML v1.0//EN
CALSCALE:GREGORIAN
METHOD:PUBLISH
X-WR-CALNAME:PIANYC
X-ORIGINAL-URL:https://www.pianyc.net
X-WR-CALDESC:Events for PIANYC
BEGIN:VTIMEZONE
TZID:America/New_York
BEGIN:DAYLIGHT
TZOFFSETFROM:-0500
TZOFFSETTO:-0400
TZNAME:EDT
DTSTART:20220313T070000
END:DAYLIGHT
BEGIN:STANDARD
TZOFFSETFROM:-0400
TZOFFSETTO:-0500
TZNAME:EST
DTSTART:20221106T060000
END:STANDARD
END:VTIMEZONE
BEGIN:VEVENT
DTSTART;TZID=America/New_York:20221202T200000
DTEND;TZID=America/New_York:20221202T213000
DTSTAMP:20260421T102735
CREATED:20221126T202202Z
LAST-MODIFIED:20221126T202202Z
UID:142416-1670011200-1670016600@www.pianyc.net
SUMMARY:Richard Goode with the New Jersey Symphony at NJPAC
DESCRIPTION:Hugh Wolff conductor \nRichard Goode piano \nNew Jersey Symphony \nBeethoven Egmont Overture \nThe powerful and expressive Egmont Overture distills all of Beethoven’s musical hallmarks—storminess\, heroism\, triumph—into eight minutes. In 1956\, this stirring piece helped inspire a nationwide uprising against the Marxist-Leninist government of the Hungarian People’s Republic. \nMozart Piano Concerto No. 25 \nAmerican classical pianist Richard Goode is recognized worldwide for the special touch and insight he brings to Mozart. Hear his effortless artistry in this most regal of Mozart’s concertos. \nAaron Jay Kernis Symphony No. 2 \nFormer New Jersey Symphony Music Director Hugh Wolff returns to a work he premiered with the Symphony back in 1992. Kernis wrote this symphony to express his complex views on the just-beginning Persian Gulf War. \nRavel La valse \nLa valse is one Ravel’s most intense and colorful works; originally composed as a series of waltzes for the piano\, it is now most often heard as an orchestral piece. The work encapsulates in music the horrifying destruction faced by turn-of-the-century Europe on the eve of World War I. \nA fee of $1.50 has been added to all performance tickets to offset the cost of COVID-19 upgrades and maintenance for performances taking place between July 1\, 2022 through December 31\, 2022.
URL:https://www.pianyc.net/event/richard-goode-with-the-new-jersey-symphony-at-njpac/2022-12-02/
LOCATION:New Jersey Performing Arts Center\, 1 Center St\, Newark\, NJ\, 07102\, United States
CATEGORIES:Live Musical Performance
ATTACH;FMTTYPE=:
GEO:40.7401103;-74.1673925
X-APPLE-STRUCTURED-LOCATION;VALUE=URI;X-ADDRESS=New Jersey Performing Arts Center 1 Center St Newark NJ 07102 United States;X-APPLE-RADIUS=500;X-TITLE=1 Center St:geo:-74.1673925,40.7401103
END:VEVENT
END:VCALENDAR