BEGIN:VCALENDAR
VERSION:2.0
PRODID:-//PIANYC - ECPv5.12.4//NONSGML v1.0//EN
CALSCALE:GREGORIAN
METHOD:PUBLISH
X-WR-CALNAME:PIANYC
X-ORIGINAL-URL:https://www.pianyc.net
X-WR-CALDESC:Events for PIANYC
BEGIN:VTIMEZONE
TZID:America/New_York
BEGIN:DAYLIGHT
TZOFFSETFROM:-0500
TZOFFSETTO:-0400
TZNAME:EDT
DTSTART:20220313T070000
END:DAYLIGHT
BEGIN:STANDARD
TZOFFSETFROM:-0400
TZOFFSETTO:-0500
TZNAME:EST
DTSTART:20221106T060000
END:STANDARD
END:VTIMEZONE
BEGIN:VEVENT
DTSTART;TZID=America/New_York:20220917T193000
DTEND;TZID=America/New_York:20220917T203000
DTSTAMP:20260420T101248
CREATED:20220804T200039Z
LAST-MODIFIED:20220804T200039Z
UID:133633-1663443000-1663446600@www.pianyc.net
SUMMARY:Reuben James\, at National Sawdust
DESCRIPTION:Fast-emerging British singer\, songwriter and pianist Reuben James’ virtuoso jazz techniques and soulful\, evocative voice have led him to be widely regarded as one of the most exciting and creatively assured artists to have emerged in recent years. \nAlthough perhaps best known for his ongoing collaborations with Sam Smith\, which have included co-writing songs for Smith’s 4 million-selling album The Thrill of It All\, James has written for and performed with an array of international star acts including the likes of Joni Mitchell\, Bonnie Raitt\, Brandi Carlile\, Herbie Hancock\, John Legend\, Tori Kelly\, Little Mix\, Disclosure and Liam Payne amongst many others.
URL:https://www.pianyc.net/event/reuben-james-at-national-sawdust/
LOCATION:National Sawdust\, 80 N 6TH St \, Brooklyn\, NY\, 11249\, United States
CATEGORIES:Live Musical Performance
ATTACH;FMTTYPE=image/png:https://www.pianyc.net/wp-content/uploads/2022/08/reuben.png
GEO:40.7189084;-73.9613374
X-APPLE-STRUCTURED-LOCATION;VALUE=URI;X-ADDRESS=National Sawdust 80 N 6TH St  Brooklyn NY 11249 United States;X-APPLE-RADIUS=500;X-TITLE=80 N 6TH St:geo:-73.9613374,40.7189084
END:VEVENT
END:VCALENDAR