BEGIN:VCALENDAR
VERSION:2.0
PRODID:-//PIANYC - ECPv5.12.4//NONSGML v1.0//EN
CALSCALE:GREGORIAN
METHOD:PUBLISH
X-WR-CALNAME:PIANYC
X-ORIGINAL-URL:https://www.pianyc.net
X-WR-CALDESC:Events for PIANYC
BEGIN:VTIMEZONE
TZID:America/New_York
BEGIN:DAYLIGHT
TZOFFSETFROM:-0500
TZOFFSETTO:-0400
TZNAME:EDT
DTSTART:20230312T070000
END:DAYLIGHT
BEGIN:STANDARD
TZOFFSETFROM:-0400
TZOFFSETTO:-0500
TZNAME:EST
DTSTART:20231105T060000
END:STANDARD
END:VTIMEZONE
BEGIN:VEVENT
DTSTART;TZID=America/New_York:20230531T200000
DTEND;TZID=America/New_York:20230531T213000
DTSTAMP:20260420T091238
CREATED:20220919T105124Z
LAST-MODIFIED:20220919T105124Z
UID:138075-1685563200-1685568600@www.pianyc.net
SUMMARY:Renée Fleming\, Soprano; Evgeny Kissin\, Piano at Carnegie Hall
DESCRIPTION:Performers\nRenée Fleming\, Soprano\nEvgeny Kissin\, Piano \nProgram\nSCHUBERT “Die Vögel\,” D. 691\nSCHUBERT “Suleika I\,” D. 720\nSCHUBERT “Lied der Mignon\,” D. 877\, No. 4\nSCHUBERT “Rastlose Liebe\,” D. 138\nLISZT “Sposalizio\,” S. 161\, No. 1\nLISZT Valse oubliée\nLISZT “Freudvoll und leidvoll\,” S. 280\nLISZT “Über allen Gipfeln ist Ruh’\,” S. 306\nLISZT “Mignons Lied\,” S. 275\nLISZT “Im Rhein\, im schönen Strome\,” S. 272\nRACHMANINOFF “Lilacs\,” Op. 21\, No. 5\nRACHMANINOFF “A Dream\,” Op. 38\, No. 5\nRACHMANINOFF “Night” from Twelve Songs\nRACHMANINOFF “Let Us Rest\,” Op. 26\, No. 3\nRACHMANINOFF Mélodie in E Major from Morceaux de fantaisie\, Op. 3\, No. 3\nRACHMANINOFF Sérénade in B-flat Minor from Morceaux de fantaisie\, Op. 3\, No. 5\nLISZT “S’il est un charmant gazon\,” S. 284\nLISZT “Oh! Quand je dors\,” S. 282\nDUPARC “Extase”\nDUPARC “Sérénade”\nDUPARC “Le manoir de Rosemonde”
URL:https://www.pianyc.net/event/renee-fleming-soprano-evgeny-kissin-piano-at-carnegie-hall-2/
LOCATION:Carnegie Hall\, 881 Seventh Avenue\, New York\, NY\, 10019\, United States
CATEGORIES:Live Musical Performance
ATTACH;FMTTYPE=image/jpeg:https://carnegiehall.imgix.net:443/-/media/CarnegieHall/Images/Events/2022-2023-CH-Presents/2023-05-31-Renee-Fleming-Evgeny-Kissin.jpg
GEO:40.764938;-73.979897
X-APPLE-STRUCTURED-LOCATION;VALUE=URI;X-ADDRESS=Carnegie Hall 881 Seventh Avenue New York NY 10019 United States;X-APPLE-RADIUS=500;X-TITLE=881 Seventh Avenue:geo:-73.979897,40.764938
END:VEVENT
END:VCALENDAR