BEGIN:VCALENDAR
VERSION:2.0
PRODID:-//PIANYC - ECPv5.12.4//NONSGML v1.0//EN
CALSCALE:GREGORIAN
METHOD:PUBLISH
X-WR-CALNAME:PIANYC
X-ORIGINAL-URL:https://www.pianyc.net
X-WR-CALDESC:Events for PIANYC
BEGIN:VTIMEZONE
TZID:America/New_York
BEGIN:DAYLIGHT
TZOFFSETFROM:-0500
TZOFFSETTO:-0400
TZNAME:EDT
DTSTART:20220313T070000
END:DAYLIGHT
BEGIN:STANDARD
TZOFFSETFROM:-0400
TZOFFSETTO:-0500
TZNAME:EST
DTSTART:20221106T060000
END:STANDARD
END:VTIMEZONE
BEGIN:VEVENT
DTSTART;TZID=America/New_York:20221028T190000
DTEND;TZID=America/New_York:20221028T210000
DTSTAMP:20260420T070440
CREATED:20221024T153132Z
LAST-MODIFIED:20221024T153132Z
UID:140375-1666983600-1666990800@www.pianyc.net
SUMMARY:Raul Sunico Concert Pianist with Soprano Brittany Palmer in Celebration at Kaufman Music Center
DESCRIPTION:An evening of Philippine and Western classical music from famous composers such as Nicanor Abelardo\, Chopin\, Felipe de Leon Sr.\, Lizst\, Rachmaninoff\, Schumann.
URL:https://www.pianyc.net/event/raul-sunico-concert-pianist-with-soprano-brittany-palmer-in-celebration-at-kaufman-music-center/
LOCATION:Merkin Concert Hall at Kaufman Music Center\, 129 W 67th St\, New York\, NY\, 10036\, United States
CATEGORIES:Live Musical Performance
ATTACH;FMTTYPE=image/jpeg:https://img.evbuc.com/https%3A%2F%2Fcdn.evbuc.com%2Fimages%2F364061639%2F569060691699%2F1%2Foriginal.20220929-205347?w=1000&auto=format%2Ccompress&q=75&sharp=10&rect=0%2C0%2C6912%2C3456&s=a78d8f4ecc66aeb5f3bb237c1a559b20
GEO:40.7752368;-73.9830916
X-APPLE-STRUCTURED-LOCATION;VALUE=URI;X-ADDRESS=Merkin Concert Hall at Kaufman Music Center 129 W 67th St New York NY 10036 United States;X-APPLE-RADIUS=500;X-TITLE=129 W 67th St:geo:-73.9830916,40.7752368
END:VEVENT
END:VCALENDAR