BEGIN:VCALENDAR
VERSION:2.0
PRODID:-//PIANYC - ECPv5.12.4//NONSGML v1.0//EN
CALSCALE:GREGORIAN
METHOD:PUBLISH
X-WR-CALNAME:PIANYC
X-ORIGINAL-URL:https://www.pianyc.net
X-WR-CALDESC:Events for PIANYC
BEGIN:VTIMEZONE
TZID:America/New_York
BEGIN:DAYLIGHT
TZOFFSETFROM:-0500
TZOFFSETTO:-0400
TZNAME:EDT
DTSTART:20230312T070000
END:DAYLIGHT
BEGIN:STANDARD
TZOFFSETFROM:-0400
TZOFFSETTO:-0500
TZNAME:EST
DTSTART:20231105T060000
END:STANDARD
END:VTIMEZONE
BEGIN:VEVENT
DTSTART;TZID=America/New_York:20231101T200000
DTEND;TZID=America/New_York:20231101T213000
DTSTAMP:20260420T083922
CREATED:20230820T182824Z
LAST-MODIFIED:20230820T182824Z
UID:153374-1698868800-1698874200@www.pianyc.net
SUMMARY:Randall Atcheson Solo Recital at Carnegie Hall
DESCRIPTION:Randall Atcheson is the epitome of a musical Renaissance man.  His gift of communicating the beauty of music in various forms has led to a decidedly versatile career as a much-sought-after artist in the classics as well as in pop and the sacred repertoire.  This versatility was evidenced early in life when he was recognized as a prodigy on both piano and organ.  He entered Samford University at age 12 and later he was accepted at The Juilliard School where he became the only student in the history of Juilliard ever allowed to pursue and receive simultaneous degrees in piano and organ performance.  He studied piano with Sascha Gorodnitzki and organ with Anthony Newman. \nAtcheson was the winner of the first Juilliard Organ Competition and subsequently gave the premiere performance on the new pipe organ in Alice Tully Hall at Lincoln Center.
URL:https://www.pianyc.net/event/randall-atcheson-solo-recital-at-carnegie-hall-2/
LOCATION:Carnegie Hall\, 881 Seventh Avenue\, New York\, NY\, 10019\, United States
CATEGORIES:Live Musical Performance
ATTACH;FMTTYPE=image/jpeg:https://images.squarespace-cdn.com/content/v1/537e6132e4b0422366d3691e/1468005439710-VOAJLWBMRJ6QSXCS2YJ4/1464031613634.jpeg?format=1500w
GEO:40.764938;-73.979897
X-APPLE-STRUCTURED-LOCATION;VALUE=URI;X-ADDRESS=Carnegie Hall 881 Seventh Avenue New York NY 10019 United States;X-APPLE-RADIUS=500;X-TITLE=881 Seventh Avenue:geo:-73.979897,40.764938
END:VEVENT
END:VCALENDAR