BEGIN:VCALENDAR
VERSION:2.0
PRODID:-//PIANYC - ECPv5.12.4//NONSGML v1.0//EN
CALSCALE:GREGORIAN
METHOD:PUBLISH
X-WR-CALNAME:PIANYC
X-ORIGINAL-URL:https://www.pianyc.net
X-WR-CALDESC:Events for PIANYC
BEGIN:VTIMEZONE
TZID:America/New_York
BEGIN:DAYLIGHT
TZOFFSETFROM:-0500
TZOFFSETTO:-0400
TZNAME:EDT
DTSTART:20250309T070000
END:DAYLIGHT
BEGIN:STANDARD
TZOFFSETFROM:-0400
TZOFFSETTO:-0500
TZNAME:EST
DTSTART:20251102T060000
END:STANDARD
END:VTIMEZONE
BEGIN:VEVENT
DTSTART;TZID=America/New_York:20251019T193000
DTEND;TZID=America/New_York:20251019T210000
DTSTAMP:20260423T002140
CREATED:20250516T143904Z
LAST-MODIFIED:20250520T015856Z
UID:180977-1760902200-1760907600@www.pianyc.net
SUMMARY:Qian Ye\, Soprano; Sergi Carreras\, Tenor; Yi Zheng Liu\, Piano at Carnegie Hall
DESCRIPTION:Performers\nQian Ye\, Soprano\nSergi Carreras\, Tenor\nYi Zheng Liu\, Piano\nAnthony Laciura\, Speaker \nWeill Recital Hall
URL:https://www.pianyc.net/event/qian-ye-soprano-sergi-carreras-tenor-at-carnegie-hall/
LOCATION:Carnegie Hall\, 881 Seventh Avenue\, New York\, NY\, 10019\, United States
CATEGORIES:Live Musical Performance
ATTACH;FMTTYPE=image/jpeg:https://rmnmusic.com/wp-content/uploads/2022/05/Photo-1-Liu-Yizhang.jpg
GEO:40.764938;-73.979897
X-APPLE-STRUCTURED-LOCATION;VALUE=URI;X-ADDRESS=Carnegie Hall 881 Seventh Avenue New York NY 10019 United States;X-APPLE-RADIUS=500;X-TITLE=881 Seventh Avenue:geo:-73.979897,40.764938
END:VEVENT
END:VCALENDAR