BEGIN:VCALENDAR
VERSION:2.0
PRODID:-//PIANYC - ECPv5.12.4//NONSGML v1.0//EN
CALSCALE:GREGORIAN
METHOD:PUBLISH
X-WR-CALNAME:PIANYC
X-ORIGINAL-URL:https://www.pianyc.net
X-WR-CALDESC:Events for PIANYC
BEGIN:VTIMEZONE
TZID:America/New_York
BEGIN:DAYLIGHT
TZOFFSETFROM:-0500
TZOFFSETTO:-0400
TZNAME:EDT
DTSTART:20250309T070000
END:DAYLIGHT
BEGIN:STANDARD
TZOFFSETFROM:-0400
TZOFFSETTO:-0500
TZNAME:EST
DTSTART:20251102T060000
END:STANDARD
END:VTIMEZONE
BEGIN:VEVENT
DTSTART;TZID=America/New_York:20250329T180000
DTEND;TZID=America/New_York:20250329T193000
DTSTAMP:20260423T060604
CREATED:20250222T030324Z
LAST-MODIFIED:20250222T030324Z
UID:178306-1743271200-1743276600@www.pianyc.net
SUMMARY:Pre-College Violin Students of Catherine Cho\, at Juilliard School
DESCRIPTION:Pre-College Violin Students of Catherine Cho \nPre-College Group Recitals \nVenue\nRm 309 – Bruno Walter Orchestral Studio \nCatherine Cho draws upon her experiences as a soloist\, chamber musician\, pedagogue\, and artistic director to support and mentor artists in their quests to engage and enrich their high values as creative thinkers and communicators. She is devoted to fostering the next generation of performers\, teachers\, and leaders through the development of artistic excellence\, curiosity\, and clarity of vision through a holistic view of the artist.
URL:https://www.pianyc.net/event/pre-college-violin-students-of-catherine-cho-at-juilliard-school/
LOCATION:Juilliard School\, 155 W 65th St\, Street Level\, New York\, NY\, 10023\, United States
CATEGORIES:Live Musical Performance
ATTACH;FMTTYPE=image/jpeg:https://www.pianyc.net/wp-content/uploads/2025/02/6297Cho-Catherine-366.jpg
GEO:40.7769059;-73.9800645
X-APPLE-STRUCTURED-LOCATION;VALUE=URI;X-ADDRESS=Juilliard School 155 W 65th St Street Level New York NY 10023 United States;X-APPLE-RADIUS=500;X-TITLE=155 W 65th St\, Street Level:geo:-73.9800645,40.7769059
END:VEVENT
END:VCALENDAR