BEGIN:VCALENDAR
VERSION:2.0
PRODID:-//PIANYC - ECPv5.12.4//NONSGML v1.0//EN
CALSCALE:GREGORIAN
METHOD:PUBLISH
X-WR-CALNAME:PIANYC
X-ORIGINAL-URL:https://www.pianyc.net
X-WR-CALDESC:Events for PIANYC
BEGIN:VTIMEZONE
TZID:America/New_York
BEGIN:DAYLIGHT
TZOFFSETFROM:-0500
TZOFFSETTO:-0400
TZNAME:EDT
DTSTART:20250309T070000
END:DAYLIGHT
BEGIN:STANDARD
TZOFFSETFROM:-0400
TZOFFSETTO:-0500
TZNAME:EST
DTSTART:20251102T060000
END:STANDARD
END:VTIMEZONE
BEGIN:VEVENT
DTSTART;TZID=America/New_York:20250222T140000
DTEND;TZID=America/New_York:20250222T150000
DTSTAMP:20260422T213033
CREATED:20250208T155340Z
LAST-MODIFIED:20250208T155340Z
UID:177082-1740232800-1740236400@www.pianyc.net
SUMMARY:Pleasant Ache: a Concert/Cabaret at Saint John’s in the Village
DESCRIPTION:Vira & Friends presents Pleasant Ache: a concert/cabaret. \nContralto Vira Slywotzky and pianist David Sytkowski are joined by guest coloratura soprano Brooke Schooley for a delightful program of classical and popular song. \nQuestions? Email hello@viraandfriends.org. \nAbout the artists…\nVira Slywotzky has performed principal roles with Seattle Opera\, Chautauqua Opera\, Chelsea Opera\, Center for Contemporary Opera\, Sarasota Opera\, Boston Midsummer Opera and Victor Herbert Renaissance Project – LIVE! She has sung concerts\, recitals and cabarets in New York City venues from The Duplex to Weill Hall at Carnegie Hall and on tour all over the United States. Internationally Slywotzky has been heard in Canada\, France\, Hungary\, Sweden and Wales. \nA champion of new music\, she has workshopped and premiered more than 30 works including songs\, full scale opera and narration with orchestra. \nSlywotzky has always been committed to keeping Ukrainian song alive and thriving; since February 2022 she has been serving as a cultural ambassador and fundraising for organizations providing aid to Ukraine. Slywotzky’s performances have served to collect over $250\,000 to help soldiers and civilians in her ancestral homeland in their fierce fight to survive the ongoing attacks from the east and to ensure a peaceful and democratic future for Ukraine. \nParticipant in numerous competitions and winner of awards\, most significantly Slywotzky was the sole representative of the USA at the 2009 BBC Cardiff Singer of the World Competition. \nSince a year before its 2016 inaugural season\, Slywotzky has served on the Board of the Berkshire Opera Festival\, for a time as President. www.viraslywotzky.com \n“Vira Slywotzky is an immensely talented\, charismatic performer who transforms herself\, and captivates her audience with her songs and tales.” – The Village View \nDavid Sytkowski is a Visiting Artist in Residence at Bard College and the Bard College Conservatory of Music\, where he is Director of Music for Opera Workshop\, leads the Musical Theatre Performance Workshop\, coaches singers and teaches private piano. \nVOWEL MOVEMENTS\, a subversive classical/cabaret/drag collaboration with Pretty Lamé\, with support of the New York State Council on the Arts\, premiered at Hudson Hall in June 2023 and was remounted for ICA Miami in February 2024. \nBrooke Schooley has been singing professionally for 15 years\, mostly in classical venues in the Northeast. She regularly performs leading coloratura roles with regional opera companies and has appeared with Bronx Opera\, Hubbard Hall Opera Theatre\, Light Opera of New York\, Empire Opera\, Delaware Valley Opera and The Martina Arroyo Foundation. She has performed the following roles:Queen of the Night (Die Zauberflöte)\, Madame Herz (Der Schauspieldirektor)\, Blonde (Die Entführung aus dem Serail)\, Adina (L’Elisir d’Amore)\, Gretel (Hansel and Gretel)\, Susanna (The Marriage of Figaro)\, Angelina (Trial by Jury)\, Monica (The Medium)\, Lucy (The Telephone)\, Miss Pinkerton (The Old Maid and the Thief) and Mabel (The Pirates of Penzance). \n 
URL:https://www.pianyc.net/event/pleasant-ache-a-concert-cabaret-at-saint-johns-in-the-village/
LOCATION:Saint John’s in the Village\, New York\, NY\, United States
CATEGORIES:Live Musical Performance
ATTACH;FMTTYPE=image/jpeg:https://img.evbuc.com/https%3A%2F%2Fcdn.evbuc.com%2Fimages%2F919307623%2F14210349983%2F1%2Foriginal.20241217-234027?crop=focalpoint&fit=crop&w=1000&auto=format%2Ccompress&q=75&sharp=10&fp-x=0.5&fp-y=0.5&s=0fbf6e7e7b3ea7e60a73636d7325e04b
GEO:40.7127753;-74.0059728
END:VEVENT
END:VCALENDAR