BEGIN:VCALENDAR
VERSION:2.0
PRODID:-//PIANYC - ECPv5.12.4//NONSGML v1.0//EN
CALSCALE:GREGORIAN
METHOD:PUBLISH
X-WR-CALNAME:PIANYC
X-ORIGINAL-URL:https://www.pianyc.net
X-WR-CALDESC:Events for PIANYC
BEGIN:VTIMEZONE
TZID:America/New_York
BEGIN:DAYLIGHT
TZOFFSETFROM:-0500
TZOFFSETTO:-0400
TZNAME:EDT
DTSTART:20250309T070000
END:DAYLIGHT
BEGIN:STANDARD
TZOFFSETFROM:-0400
TZOFFSETTO:-0500
TZNAME:EST
DTSTART:20251102T060000
END:STANDARD
END:VTIMEZONE
BEGIN:VEVENT
DTSTART;TZID=America/New_York:20251015T180000
DTEND;TZID=America/New_York:20251015T190000
DTSTAMP:20260422T115255
CREATED:20250919T182558Z
LAST-MODIFIED:20250927T183947Z
UID:188278-1760551200-1760554800@www.pianyc.net
SUMMARY:Pipes: Avi Stein with Novus\, at Trinity Church
DESCRIPTION:Join us as Trinity’s own organist and chorusmaster\, Avi Stein\, celebrates the church’s glorious new organ by unleashing the full range of its expressive capabilities. Showcasing how the 8\,000-pipe instrument performs in dialogue with an orchestra — and how it can perform as an orchestra in itself — Stein joins with the strings of NOVUS to present two concertos: Francis Poulenc’s Organ Concerto in G Minor\, a lush and witty homage to J. S. Bach\, and American composer Walter Piston’s Prelude and Allegro for Organ and Strings\, written for a radio broadcast during the Second World War. \nHe will also perform Sonata on the 94th Psalm\, written by Julius Reubke\, a disciple of Franz Liszt whose potential was cut short when he died at 23. A vast meditation comparable to great Romantic tone poems or epic Wagnerian operas\, this work demonstrates the instrument’s full palette of colors and emotional possibilities. Stein rounds out the program with his own arrangement of the jazz-influenced spiritual Troubled Water\, by Margaret Bonds\, one the first Black women to enter the mainstream of American classical music. \n  \n 
URL:https://www.pianyc.net/event/pipes-avi-stein-with-novus-at-trinity-church/
LOCATION:Holy Trinity Lutheran Church\, 240 Lincoln Avenue\, Rockville Centre\, NY\, 11570\, United States
CATEGORIES:Live Musical Performance
ATTACH;FMTTYPE=image/jpeg:https://cdn.evbuc.com/images/1090720633/2183300615243/1/original.20250807-184230
GEO:40.650448;-73.642358
X-APPLE-STRUCTURED-LOCATION;VALUE=URI;X-ADDRESS=Holy Trinity Lutheran Church 240 Lincoln Avenue Rockville Centre NY 11570 United States;X-APPLE-RADIUS=500;X-TITLE=240 Lincoln Avenue:geo:-73.642358,40.650448
END:VEVENT
END:VCALENDAR