BEGIN:VCALENDAR
VERSION:2.0
PRODID:-//PIANYC - ECPv5.12.4//NONSGML v1.0//EN
CALSCALE:GREGORIAN
METHOD:PUBLISH
X-WR-CALNAME:PIANYC
X-ORIGINAL-URL:https://www.pianyc.net
X-WR-CALDESC:Events for PIANYC
BEGIN:VTIMEZONE
TZID:America/New_York
BEGIN:DAYLIGHT
TZOFFSETFROM:-0500
TZOFFSETTO:-0400
TZNAME:EDT
DTSTART:20250309T070000
END:DAYLIGHT
BEGIN:STANDARD
TZOFFSETFROM:-0400
TZOFFSETTO:-0500
TZNAME:EST
DTSTART:20251102T060000
END:STANDARD
END:VTIMEZONE
BEGIN:VEVENT
DTSTART;TZID=America/New_York:20251005T140000
DTEND;TZID=America/New_York:20251005T153000
DTSTAMP:20260422T122007
CREATED:20250824T014950Z
LAST-MODIFIED:20250901T141446Z
UID:186297-1759672800-1759678200@www.pianyc.net
SUMMARY:Piano Trio Extravaganza with Mark Peskanov\, Nicholas Tzavaras\, And Alexandra Joan\, at Bargemusic
DESCRIPTION:Piano Trio Extravaganza \nBrahms Piano Trio No. 2 in C Major\, Op. 87 \nShostakovich Piano Trio No. 2 in E minor Op. 67 \nMendelssohn Piano Trio No 1 in D minor\, Op. 49 \nMark Peskanov\, violin \nNicholas Tzavaras\, cello \nAlexandra Joan\, piano \nFull concert calendar
URL:https://www.pianyc.net/event/piano-trio-extravaganza-with-mark-peskanov-nicholas-tzavaras-and-alexandra-joan-at-bargemusic-2/
LOCATION:Bargemusic\, 1 Water St.\, Brooklyn\, NY\, 11201\, United States
CATEGORIES:Live Musical Performance
ATTACH;FMTTYPE=image/jpeg:https://www.pianyc.net/wp-content/uploads/2024/08/Alexandra-Joan-piano.jpg
GEO:40.703195;-73.9947228
X-APPLE-STRUCTURED-LOCATION;VALUE=URI;X-ADDRESS=Bargemusic 1 Water St. Brooklyn NY 11201 United States;X-APPLE-RADIUS=500;X-TITLE=1 Water St.:geo:-73.9947228,40.703195
END:VEVENT
END:VCALENDAR