BEGIN:VCALENDAR
VERSION:2.0
PRODID:-//PIANYC - ECPv5.12.4//NONSGML v1.0//EN
CALSCALE:GREGORIAN
METHOD:PUBLISH
X-WR-CALNAME:PIANYC
X-ORIGINAL-URL:https://www.pianyc.net
X-WR-CALDESC:Events for PIANYC
BEGIN:VTIMEZONE
TZID:America/New_York
BEGIN:DAYLIGHT
TZOFFSETFROM:-0500
TZOFFSETTO:-0400
TZNAME:EDT
DTSTART:20240310T070000
END:DAYLIGHT
BEGIN:STANDARD
TZOFFSETFROM:-0400
TZOFFSETTO:-0500
TZNAME:EST
DTSTART:20241103T060000
END:STANDARD
END:VTIMEZONE
BEGIN:VEVENT
DTSTART;TZID=America/New_York:20241221T170000
DTEND;TZID=America/New_York:20241221T183000
DTSTAMP:20260420T052702
CREATED:20240815T170903Z
LAST-MODIFIED:20240817T152523Z
UID:169855-1734800400-1734805800@www.pianyc.net
SUMMARY:Piano Students of Soyeon Kate Lee\, at Juilliard School
DESCRIPTION:Piano Students of Soyeon Kate Lee \nPre-College Group Recitals \nVenue\nMorse Hall
URL:https://www.pianyc.net/event/piano-students-of-soyeon-kate-lee-at-juilliard-school/
LOCATION:Juilliard School\, 155 W 65th St\, Street Level\, New York\, NY\, 10023\, United States
CATEGORIES:Live Musical Performance
ATTACH;FMTTYPE=image/jpeg:https://encrypted-tbn3.gstatic.com/images?q=tbn:ANd9GcTfovTQMffeMxia5Q2zDINYpFeut7kj0gYUt28GuI_Imws30pqS
GEO:40.7769059;-73.9800645
X-APPLE-STRUCTURED-LOCATION;VALUE=URI;X-ADDRESS=Juilliard School 155 W 65th St Street Level New York NY 10023 United States;X-APPLE-RADIUS=500;X-TITLE=155 W 65th St\, Street Level:geo:-73.9800645,40.7769059
END:VEVENT
END:VCALENDAR