BEGIN:VCALENDAR
VERSION:2.0
PRODID:-//PIANYC - ECPv5.12.4//NONSGML v1.0//EN
CALSCALE:GREGORIAN
METHOD:PUBLISH
X-WR-CALNAME:PIANYC
X-ORIGINAL-URL:https://www.pianyc.net
X-WR-CALDESC:Events for PIANYC
BEGIN:VTIMEZONE
TZID:America/New_York
BEGIN:DAYLIGHT
TZOFFSETFROM:-0500
TZOFFSETTO:-0400
TZNAME:EDT
DTSTART:20240310T070000
END:DAYLIGHT
BEGIN:STANDARD
TZOFFSETFROM:-0400
TZOFFSETTO:-0500
TZNAME:EST
DTSTART:20241103T060000
END:STANDARD
END:VTIMEZONE
BEGIN:VEVENT
DTSTART;TZID=America/New_York:20241119T200000
DTEND;TZID=America/New_York:20241119T210000
DTSTAMP:20260420T104037
CREATED:20241117T183553Z
LAST-MODIFIED:20241118T160504Z
UID:174737-1732046400-1732050000@www.pianyc.net
SUMMARY:Piano Panties: A Risqué Cabaret Show at Sid Gold's Request Room (Piano Karaoke After)
DESCRIPTION:This is a cabaret show featuring live original music\, comedy sketches\, burlesque\, and more! We’ll be performing in our underwear… and the audience is welcome to attend in their underwear too! \nDoors open at 7:30. Show runs from 8 to 9 PM. Immediately following the show\, there will be piano karaoke.
URL:https://www.pianyc.net/event/piano-panties-a-risque-cabaret-show-at-sid-golds-request-room/
LOCATION:Sid Gold’s Request Room\, 165 W 26th St\, New York\, NY\, NY 10001\, United States
CATEGORIES:Live Musical Performance
ATTACH;FMTTYPE=image/jpeg:https://img.evbuc.com/https%3A%2F%2Fcdn.evbuc.com%2Fimages%2F817816869%2F295578473649%2F1%2Foriginal.20240731-120557?w=1000&auto=format%2Ccompress&q=75&sharp=10&s=ba91cac8897a357b3db70e065385abad
GEO:40.7459173;-73.993616
X-APPLE-STRUCTURED-LOCATION;VALUE=URI;X-ADDRESS=Sid Gold’s Request Room 165 W 26th St New York NY NY 10001 United States;X-APPLE-RADIUS=500;X-TITLE=165 W 26th St:geo:-73.993616,40.7459173
END:VEVENT
END:VCALENDAR