BEGIN:VCALENDAR
VERSION:2.0
PRODID:-//PIANYC - ECPv5.12.4//NONSGML v1.0//EN
CALSCALE:GREGORIAN
METHOD:PUBLISH
X-WR-CALNAME:PIANYC
X-ORIGINAL-URL:https://www.pianyc.net
X-WR-CALDESC:Events for PIANYC
BEGIN:VTIMEZONE
TZID:America/New_York
BEGIN:DAYLIGHT
TZOFFSETFROM:-0500
TZOFFSETTO:-0400
TZNAME:EDT
DTSTART:20250309T070000
END:DAYLIGHT
BEGIN:STANDARD
TZOFFSETFROM:-0400
TZOFFSETTO:-0500
TZNAME:EST
DTSTART:20251102T060000
END:STANDARD
END:VTIMEZONE
BEGIN:VEVENT
DTSTART;TZID=America/New_York:20250304T200000
DTEND;TZID=America/New_York:20250304T210000
DTSTAMP:20260420T091028
CREATED:20250302T153941Z
LAST-MODIFIED:20250302T154352Z
UID:178914-1741118400-1741122000@www.pianyc.net
SUMMARY:Piano Panties: A Cheeky Cabaret Show at Sid Gold's Request Room
DESCRIPTION:This is a cabaret show featuring live original music\, comedy sketches\, burlesque\, and more! \nYou can arrive early to get a drink in the front bar. The main show area will begin seating at 7:45. Show runs from 8 to 9 PM. Immediately following the show\, there will be audience piano karaoke until 12:30 AM
URL:https://www.pianyc.net/event/piano-panties-a-cheeky-cabaret-show-at-sid-golds-request-room/
LOCATION:The Chapel at the Interchurch Center\, 61 Claremont Ave\, New York\, NY\, 10115\, United States
CATEGORIES:Live Musical Performance
ATTACH;FMTTYPE=image/jpeg:https://img.evbuc.com/https%3A%2F%2Fcdn.evbuc.com%2Fimages%2F899534603%2F295578473649%2F1%2Foriginal.20241115-023016?crop=focalpoint&fit=crop&w=1000&auto=format%2Ccompress&q=75&sharp=10&fp-x=0.334210526316&fp-y=0.410852713178&s=cd66ec8643510a393db5a0ae26c106cc
GEO:40.7127753;-74.0059728
X-APPLE-STRUCTURED-LOCATION;VALUE=URI;X-ADDRESS=The Chapel at the Interchurch Center 61 Claremont Ave New York NY 10115 United States;X-APPLE-RADIUS=500;X-TITLE=61 Claremont Ave:geo:-74.0059728,40.7127753
END:VEVENT
END:VCALENDAR