BEGIN:VCALENDAR
VERSION:2.0
PRODID:-//PIANYC - ECPv5.12.4//NONSGML v1.0//EN
CALSCALE:GREGORIAN
METHOD:PUBLISH
X-WR-CALNAME:PIANYC
X-ORIGINAL-URL:https://www.pianyc.net
X-WR-CALDESC:Events for PIANYC
BEGIN:VTIMEZONE
TZID:America/New_York
BEGIN:DAYLIGHT
TZOFFSETFROM:-0500
TZOFFSETTO:-0400
TZNAME:EDT
DTSTART:20250309T070000
END:DAYLIGHT
BEGIN:STANDARD
TZOFFSETFROM:-0400
TZOFFSETTO:-0500
TZNAME:EST
DTSTART:20251102T060000
END:STANDARD
END:VTIMEZONE
BEGIN:VEVENT
DTSTART;TZID=America/New_York:20250210T160000
DTEND;TZID=America/New_York:20250210T160000
DTSTAMP:20260421T045422
CREATED:20241004T202051Z
LAST-MODIFIED:20241004T202051Z
UID:172452-1739203200-1739203200@www.pianyc.net
SUMMARY:Piano Master Class: Jonathan Biss at Manhattan School of Music
DESCRIPTION:Greenfield Hall\n130 Claremont Avenue\nNew York\, New York 10027
URL:https://www.pianyc.net/event/piano-master-class-jonathan-biss-at-manhattan-school-of-music/
LOCATION:Manhattan School of Music\, 120 Claremont Avenue\, New York\, NY\, 10027\, United States
CATEGORIES:Live Musical Performance
ATTACH;FMTTYPE=image/jpeg:https://www.msmnyc.edu/wp-content/uploads/2024/08/JonathanBissCreditBenjaminEalovega14.jpeg
GEO:40.8123903;-73.9614817
X-APPLE-STRUCTURED-LOCATION;VALUE=URI;X-ADDRESS=Manhattan School of Music 120 Claremont Avenue New York NY 10027 United States;X-APPLE-RADIUS=500;X-TITLE=120 Claremont Avenue:geo:-73.9614817,40.8123903
END:VEVENT
END:VCALENDAR