BEGIN:VCALENDAR
VERSION:2.0
PRODID:-//PIANYC - ECPv5.12.4//NONSGML v1.0//EN
CALSCALE:GREGORIAN
METHOD:PUBLISH
X-WR-CALNAME:PIANYC
X-ORIGINAL-URL:https://www.pianyc.net
X-WR-CALDESC:Events for PIANYC
BEGIN:VTIMEZONE
TZID:America/New_York
BEGIN:DAYLIGHT
TZOFFSETFROM:-0500
TZOFFSETTO:-0400
TZNAME:EDT
DTSTART:20230312T070000
END:DAYLIGHT
BEGIN:STANDARD
TZOFFSETFROM:-0400
TZOFFSETTO:-0500
TZNAME:EST
DTSTART:20231105T060000
END:STANDARD
END:VTIMEZONE
BEGIN:VEVENT
DTSTART;TZID=America/New_York:20230131T190000
DTEND;TZID=America/New_York:20230131T190000
DTSTAMP:20260420T072413
CREATED:20230101T230529Z
LAST-MODIFIED:20230102T151435Z
UID:144163-1675191600-1675191600@www.pianyc.net
SUMMARY:Piano Jazz Series: Ted Rosenthal at Zinc
DESCRIPTION:Acclaimed jazz pianist Ted Rosenthal brings his trio to the Zinc Bar for a splendid evening of jazz piano on Tuesday\, January 31. He’s supported by bassist Peter Washington and drummer Kenny Washington. \nTed Rosenthal is one of the leading jazz pianist/composers of his generation. He actively tours worldwide with his trio\, as a soloist\, and has performed with many jazz greats\, including Gerry Mulligan\, Art Farmer\, Phil Woods\, Bob Brookmeyer\, and James Moody. \nWinner of the Thelonious Monk International Jazz Piano Competition\, Rosenthal has released fifteen CDs as a leader. Rhapsody in Gershwin\, which features his arrangement of Rhapsody in Blue for a jazz trio\, reached #1 in jazz album sales on iTunes and Amazon. Wonderland\, was selected as a New York Times holiday pick\, and received much critical praise: “Sleek\, chic and elegant” – Howard Reich\, Chicago Tribune. Impromptu\, showcases his reimaginings of classical themes for jazz trio.
URL:https://www.pianyc.net/event/piano-jazz-series-ted-rosenthal-at-zinc/2023-01-31/
LOCATION:Zinc Bar\, 82 West 3rd Street\, New York\, NY\, 10012\, United States
CATEGORIES:Live Musical Performance
ATTACH;FMTTYPE=:
GEO:40.7296714;-73.9989913
X-APPLE-STRUCTURED-LOCATION;VALUE=URI;X-ADDRESS=Zinc Bar 82 West 3rd Street New York NY 10012 United States;X-APPLE-RADIUS=500;X-TITLE=82 West 3rd Street:geo:-73.9989913,40.7296714
END:VEVENT
END:VCALENDAR