BEGIN:VCALENDAR
VERSION:2.0
PRODID:-//PIANYC - ECPv5.12.4//NONSGML v1.0//EN
CALSCALE:GREGORIAN
METHOD:PUBLISH
X-WR-CALNAME:PIANYC
X-ORIGINAL-URL:https://www.pianyc.net
X-WR-CALDESC:Events for PIANYC
BEGIN:VTIMEZONE
TZID:America/New_York
BEGIN:DAYLIGHT
TZOFFSETFROM:-0500
TZOFFSETTO:-0400
TZNAME:EDT
DTSTART:20240310T070000
END:DAYLIGHT
BEGIN:STANDARD
TZOFFSETFROM:-0400
TZOFFSETTO:-0500
TZNAME:EST
DTSTART:20241103T060000
END:STANDARD
END:VTIMEZONE
BEGIN:VEVENT
DTSTART;TZID=America/New_York:20240924T190000
DTEND;TZID=America/New_York:20240924T200000
DTSTAMP:20260423T060838
CREATED:20240526T133402Z
LAST-MODIFIED:20240526T133402Z
UID:166509-1727204400-1727208000@www.pianyc.net
SUMMARY:Piano Jazz Series: Silvano Monasterios at Klavierhaus (Early and Late Shows)
DESCRIPTION:“Silvano is a masterful pianist and composer\, but make no mistake here\, you are taking a journey into the soul of a courageous and deep human whose gift involves much more than his incredible facility on the piano.” —Downbeat \nMake sure you mark your calendars! September 24th promises an unforgettable evening of jazz piano featuring the renowned Venezuelan artist Silvano Monasterios\, accompanied by bassist Ricky Rodriguez. \nSilvano Monasterios\, a talented pianist-composer\, has a journey that spans from Caracas to the US. With accolades like a “Best Soloist Award” and a debut album “Roads Not Taken\,” his performance promises excellence. \nShowtimes: 7:00 PM and 8:30 PM. Tickets: $25 (advance) / $30 (at the door). \nExplore more shows by Charles Carlini Presents: https://www.charlescarlinipresents.com/. See you there! \nCancellation Policy:\nRefunds available for cancellations; otherwise\, tickets are non-refundable. Please be punctual\, and let us know if you’ll be late. We can hold your reservation for 15 minutes past the scheduled time. Thank you for your understanding.
URL:https://www.pianyc.net/event/piano-jazz-series-silvano-monasterios-at-klavierhaus-early-and-late-shows/
LOCATION:Klavierhaus\, 790 11th Avenue\, New York\, NY\, 10019\, United States
CATEGORIES:Live Musical Performance
ATTACH;FMTTYPE=image/jpeg:https://img.evbuc.com/https%3A%2F%2Fcdn.evbuc.com%2Fimages%2F768331999%2F1704170045453%2F1%2Foriginal.20240515-132009?w=1000&auto=format%2Ccompress&q=75&sharp=10&rect=0%2C0%2C2160%2C1080&s=535a0a92675b216ef5b681708096533e
GEO:40.7686401;-73.9922313
X-APPLE-STRUCTURED-LOCATION;VALUE=URI;X-ADDRESS=Klavierhaus 790 11th Avenue New York NY 10019 United States;X-APPLE-RADIUS=500;X-TITLE=790 11th Avenue:geo:-73.9922313,40.7686401
END:VEVENT
END:VCALENDAR