BEGIN:VCALENDAR
VERSION:2.0
PRODID:-//PIANYC - ECPv5.12.4//NONSGML v1.0//EN
CALSCALE:GREGORIAN
METHOD:PUBLISH
X-WR-CALNAME:PIANYC
X-ORIGINAL-URL:https://www.pianyc.net
X-WR-CALDESC:Events for PIANYC
BEGIN:VTIMEZONE
TZID:America/New_York
BEGIN:DAYLIGHT
TZOFFSETFROM:-0500
TZOFFSETTO:-0400
TZNAME:EDT
DTSTART:20240310T070000
END:DAYLIGHT
BEGIN:STANDARD
TZOFFSETFROM:-0400
TZOFFSETTO:-0500
TZNAME:EST
DTSTART:20241103T060000
END:STANDARD
END:VTIMEZONE
BEGIN:VEVENT
DTSTART;TZID=America/New_York:20241022T203000
DTEND;TZID=America/New_York:20241022T213000
DTSTAMP:20260422T095832
CREATED:20240914T192537Z
LAST-MODIFIED:20240922T202128Z
UID:171123-1729629000-1729632600@www.pianyc.net
SUMMARY:Misha Tsiganov Piano Jazz at Klavierhaus
DESCRIPTION:Born in St. Petersburg and a graduate of the Mussorgsky College of Music\, Misha has graced stages worldwide\, including Carnegie Hall and the Blue Note. With over 150 recordings and 11 albums as a leader\, including his recent releases on Criss Cross Jazz\, Misha has collaborated with jazz legends such as Michael Brecker\, Randy Brecker\, and Joe Chambers. His distinctive style also featured prominently in the soundtrack of the Bill Cosby television cartoon\, Little Bill. Don’t miss this chance to experience Misha Tsiganov’s exceptional artistry live at Klavierhaus. \n  \nChoose Your Experience: \n\nLive Show: Enjoy performances at 7:00 pm and 8:30 pm. Tickets are $25 in advance\, $30 at the door. Students with ID can get tickets for $15 at the door.\nHD Livestream: Can’t make it to the venue? Watch from home with HD Livestream tickets at $10 in advance\, $15 on show day\nGift Certificates: Give the gift of live music with a gift certificate.\n\nSpecial Offer: Get priority access to 10 shows for $199 (save $50) or 20 shows for $399 (save $100). Includes preferred seating and easy entry. Purchase at https://tickets.decibelpresents.com/events/decibel. \nSupport Live Music: Help us keep the music alive! Consider making a donation to support our artists and live events. Your contributions ensure that we can continue bringing you the best performances. \nDiscover More: Looking for more incredible live performances? Visit Decibel for our full lineup of upcoming events. \nHassle-Free Ticketing: Buy tickets via TicketTailor\, Eventbrite\, or Stellar if you encounter issues. \nCancellation: Refunds for cancellations only. Non-refundable otherwise. Reservations held for 15 minutes past showtime. \nDirections to Klavierhaus: Klavierhaus is located at 790 11th Avenue\, New York\, NY 10019. Get directions here.
URL:https://www.pianyc.net/event/piano-jazz-series-misha-tsiganov-at-klavierhaus/
LOCATION:Klavierhaus\, 790 11th Avenue\, New York\, NY\, 10019\, United States
CATEGORIES:Live Musical Performance
ATTACH;FMTTYPE=image/jpeg:https://img.evbuc.com/https%3A%2F%2Fcdn.evbuc.com%2Fimages%2F839992249%2F1704170045453%2F1%2Foriginal.20240903-033323?crop=focalpoint&fit=crop&w=1000&auto=format%2Ccompress&q=75&sharp=10&fp-x=0.833333333333&fp-y=0.490066225166&s=86ced137684da81a60fbecb3974b88a7
GEO:40.7686401;-73.9922313
X-APPLE-STRUCTURED-LOCATION;VALUE=URI;X-ADDRESS=Klavierhaus 790 11th Avenue New York NY 10019 United States;X-APPLE-RADIUS=500;X-TITLE=790 11th Avenue:geo:-73.9922313,40.7686401
END:VEVENT
END:VCALENDAR