BEGIN:VCALENDAR
VERSION:2.0
PRODID:-//PIANYC - ECPv5.12.4//NONSGML v1.0//EN
CALSCALE:GREGORIAN
METHOD:PUBLISH
X-WR-CALNAME:PIANYC
X-ORIGINAL-URL:https://www.pianyc.net
X-WR-CALDESC:Events for PIANYC
BEGIN:VTIMEZONE
TZID:America/New_York
BEGIN:DAYLIGHT
TZOFFSETFROM:-0500
TZOFFSETTO:-0400
TZNAME:EDT
DTSTART:20240310T070000
END:DAYLIGHT
BEGIN:STANDARD
TZOFFSETFROM:-0400
TZOFFSETTO:-0500
TZNAME:EST
DTSTART:20241103T060000
END:STANDARD
END:VTIMEZONE
BEGIN:VEVENT
DTSTART;TZID=America/New_York:20241001T203000
DTEND;TZID=America/New_York:20241001T213000
DTSTAMP:20260421T065029
CREATED:20240914T192528Z
LAST-MODIFIED:20240917T185205Z
UID:171095-1727814600-1727818200@www.pianyc.net
SUMMARY:Piano Jazz Series: Michael Wolff at 790 11th Ave
DESCRIPTION:“near impeccable good taste\, technical facility and lyrical inventiveness.”\n—The New York Times \nDon’t miss Michael Wolff at Klavierhaus on October 1st! He’s supported by Ben Allison on bass. \nIn the summer of 2015\, the renowned pianist-composer Michael Wolff battled a rare cancer\, defying the odds to make a remarkable recovery. His sons Nat and Alex\, known from “The Naked Brothers Band\,” played by his side during his darkest moments. Today\, Wolff is completely cancer-free\, and his outlook on life and music has transformed profoundly. \nWolff’s latest album\, “Swirl\,” is a radiant piano trio masterpiece featuring bassist Ben Allison and drummer Allan Mednard. This new work reflects Wolff’s newfound appreciation for life’s joys\, focusing on creating beautiful music that resonates deeply. \nMichael Wolff’s storied career spans decades\, with collaborations with jazz legends like Cannonball Adderley and Tom Harrell. He’s also known for his role as the musical director of Arsenio Hall’s late-night talk show. Additionally\, Wolff is an avid fan of blackjack and has shared his insights into the game. \nTwo Showtimes Available: Choose between the 7:00 pm or 8:30 pm show. Tickets are only $25 in advance and $30 at the door. Students with valid school IDs can purchase tickets for just $15 in cash at the door. Secure your spot today! \nCan’t attend in person? No problem! Catch the show in the comfort of your own home via HD Livestreaming: $10 (advance); $15 (day of show). \nMore from Decibel Presents: Looking for more incredible live shows? Visit Decibel Presents’ website at https://decibelpresents.com to explore their exciting lineup of upcoming events. \nCancellation Policy:\nRefunds available for cancellations; otherwise\, tickets are non-refundable. Please be punctual\, and let us know if you’ll be late. We can hold your reservation for 15 minutes past the scheduled time. Thank you for your understanding.
URL:https://www.pianyc.net/event/piano-jazz-series-michael-wolff-at-790-11th-ave/
LOCATION:Klavierhaus\, 790 11th Avenue\, New York\, NY\, 10019\, United States
CATEGORIES:Live Musical Performance
ATTACH;FMTTYPE=image/jpeg:https://img.evbuc.com/https%3A%2F%2Fcdn.evbuc.com%2Fimages%2F796358449%2F1704170045453%2F1%2Foriginal.20240625-234600?w=1000&auto=format%2Ccompress&q=75&sharp=10&s=8f9d622a9b04854cf6fc1162f3342cbb
GEO:40.7686401;-73.9922313
X-APPLE-STRUCTURED-LOCATION;VALUE=URI;X-ADDRESS=Klavierhaus 790 11th Avenue New York NY 10019 United States;X-APPLE-RADIUS=500;X-TITLE=790 11th Avenue:geo:-73.9922313,40.7686401
END:VEVENT
END:VCALENDAR