BEGIN:VCALENDAR
VERSION:2.0
PRODID:-//PIANYC - ECPv5.12.4//NONSGML v1.0//EN
CALSCALE:GREGORIAN
METHOD:PUBLISH
X-WR-CALNAME:PIANYC
X-ORIGINAL-URL:https://www.pianyc.net
X-WR-CALDESC:Events for PIANYC
BEGIN:VTIMEZONE
TZID:America/New_York
BEGIN:DAYLIGHT
TZOFFSETFROM:-0500
TZOFFSETTO:-0400
TZNAME:EDT
DTSTART:20250309T070000
END:DAYLIGHT
BEGIN:STANDARD
TZOFFSETFROM:-0400
TZOFFSETTO:-0500
TZNAME:EST
DTSTART:20251102T060000
END:STANDARD
END:VTIMEZONE
BEGIN:VEVENT
DTSTART;TZID=America/New_York:20250211T203000
DTEND;TZID=America/New_York:20250211T213000
DTSTAMP:20260423T074046
CREATED:20241222T205350Z
LAST-MODIFIED:20241222T211324Z
UID:175970-1739305800-1739309400@www.pianyc.net
SUMMARY:Piano Jazz Series: Jill McCarron at Klavierhaus
DESCRIPTION:“Jill McCarron has bop in her blood. A looker and a cooker.” —Jazz Weekly \nJoin for an unforgettable evening of jazz with acclaimed pianist Jill McCarron\, performing live at Klavierhaus. \nBorn in Minneapolis and raised in Canada\, Jill is a graduate of Toronto’s Humber College\, where she studied jazz performance and arranging under Ron Collier\, Duke Ellington’s arranger in the 1970s. After moving to New York City\, she honed her craft at the New School with mentors like Richie Beirach\, Kenny Werner\, and Jim Hall. \nA celebrated artist\, Jill has won prestigious competitions including the Great American Jazz Piano Competition and has performed at iconic venues such as Dizzy’s Club at Lincoln Center\, The Blue Note\, and the Carlyle Hotel. Her latest album Gin\, featuring Vincent Herring and Randy Brecker\, recently soared to #11 on the JazzWeek chart. \nDon’t miss this chance to see Jill McCarron\, whose deeply rooted jazz sensibility and captivating performances have earned her a place among the top jazz pianists today. \n  \n\nLive Shows: 7pm & 8:30pm ($25/$30\, students $15)\nHD Livestream: Watch from home ($10/$15)\nGift Certificates: Perfect music lover’s gift\nSpecial Offers: Priority access packages (save up to $100)\nSupport Live Music: Donate to keep the music going (Text DECIBEL to 53-555 to donate)\n\nDirections to Klavierhaus: Klavierhaus is located at 790 11th Avenue\, New York\, NY 10019. Get directions here. \nDon’t wait—tickets are selling fast! Secure your spot now.
URL:https://www.pianyc.net/event/piano-jazz-series-jill-mccarron-at-790-11th-ave/
LOCATION:Klavierhaus\, 790 11th Avenue\, New York\, NY\, 10019\, United States
CATEGORIES:Live Musical Performance
ATTACH;FMTTYPE=image/jpeg:https://img.evbuc.com/https%3A%2F%2Fcdn.evbuc.com%2Fimages%2F853725219%2F1704170045453%2F1%2Foriginal.20240918-193401?w=1000&auto=format%2Ccompress&q=75&sharp=10&rect=0%2C0%2C2160%2C1080&s=8aba3e4e065b270f1e80a3728c1f3998
GEO:40.7686401;-73.9922313
X-APPLE-STRUCTURED-LOCATION;VALUE=URI;X-ADDRESS=Klavierhaus 790 11th Avenue New York NY 10019 United States;X-APPLE-RADIUS=500;X-TITLE=790 11th Avenue:geo:-73.9922313,40.7686401
END:VEVENT
END:VCALENDAR