BEGIN:VCALENDAR
VERSION:2.0
PRODID:-//PIANYC - ECPv5.12.4//NONSGML v1.0//EN
CALSCALE:GREGORIAN
METHOD:PUBLISH
X-WR-CALNAME:PIANYC
X-ORIGINAL-URL:https://www.pianyc.net
X-WR-CALDESC:Events for PIANYC
BEGIN:VTIMEZONE
TZID:America/New_York
BEGIN:DAYLIGHT
TZOFFSETFROM:-0500
TZOFFSETTO:-0400
TZNAME:EDT
DTSTART:20250309T070000
END:DAYLIGHT
BEGIN:STANDARD
TZOFFSETFROM:-0400
TZOFFSETTO:-0500
TZNAME:EST
DTSTART:20251102T060000
END:STANDARD
END:VTIMEZONE
BEGIN:VEVENT
DTSTART;TZID=America/New_York:20250712T130000
DTEND;TZID=America/New_York:20250712T140000
DTSTAMP:20260421T100649
CREATED:20250616T021955Z
LAST-MODIFIED:20250622T192323Z
UID:181847-1752325200-1752328800@www.pianyc.net
SUMMARY:Piano Beginner to Intermediate: From Basics to Brilliance (Ages 9 +) at Jamaica Center for Arts and Learning (JCAL)
DESCRIPTION:Piano Beginner to Intermediate: From Basics to Brilliance 1pm-2pm | $169  \nThis fun and dynamic 6-week journey is perfect for young pianists who are just starting out or looking to level up their skills. From mastering the basics to rocking intermediate pieces\, this class is your ticket to unlocking the joy of piano playing. \nExplore everything from catchy tunes to cool techniques in a supportive and inspiring environment. Whether you’re playing your first notes or perfecting your performance\, we’re here to help you shine! \nLearning Objectives: \n\nRock Your Technique: Nail proper hand posture\, finger moves\, and coordination with fun exercises to boost your piano superpowers.\n\n\nDecode the Music Code: Dive into scales\, chords\, and key signatures—music theory has never been so cool (or easy to apply)!\n\n\nExpress Yourself: Bring your music to life with dynamics\, phrasing\, and style that tell your unique story.\n\n 
URL:https://www.pianyc.net/event/piano-beginner-to-intermediate-from-basics-to-brilliance-ages-9-at-jamaica-center-for-arts-and-learning-jcal/
LOCATION:Jamaica Center for Arts and Learning\, 161-04 Jamaica Ave\, Jamaica\, NY\, 11432\, United States
CATEGORIES:Physical Activity
ATTACH;FMTTYPE=image/jpeg:https://img.evbuc.com/https%3A%2F%2Fcdn.evbuc.com%2Fimages%2F1027267013%2F166494887675%2F1%2Foriginal.20250509-151708?crop=focalpoint&fit=crop&w=1000&auto=format%2Ccompress&q=75&sharp=10&fp-x=0.5&fp-y=0.5&s=d30b5343e41b8869d91745eb16fe2b21
GEO:40.7038151;-73.7980901
X-APPLE-STRUCTURED-LOCATION;VALUE=URI;X-ADDRESS=Jamaica Center for Arts and Learning 161-04 Jamaica Ave Jamaica NY 11432 United States;X-APPLE-RADIUS=500;X-TITLE=161-04 Jamaica Ave:geo:-73.7980901,40.7038151
END:VEVENT
END:VCALENDAR