BEGIN:VCALENDAR
VERSION:2.0
PRODID:-//PIANYC - ECPv5.12.4//NONSGML v1.0//EN
CALSCALE:GREGORIAN
METHOD:PUBLISH
X-WR-CALNAME:PIANYC
X-ORIGINAL-URL:https://www.pianyc.net
X-WR-CALDESC:Events for PIANYC
BEGIN:VTIMEZONE
TZID:America/New_York
BEGIN:DAYLIGHT
TZOFFSETFROM:-0500
TZOFFSETTO:-0400
TZNAME:EDT
DTSTART:20230312T070000
END:DAYLIGHT
BEGIN:STANDARD
TZOFFSETFROM:-0400
TZOFFSETTO:-0500
TZNAME:EST
DTSTART:20231105T060000
END:STANDARD
END:VTIMEZONE
BEGIN:VEVENT
DTSTART;TZID=America/New_York:20230524T210000
DTEND;TZID=America/New_York:20230525T000000
DTSTAMP:20260421T224258
CREATED:20230521T000742Z
LAST-MODIFIED:20230521T000742Z
UID:149759-1684962000-1684972800@www.pianyc.net
SUMMARY:Piano Bar Night with  Nina at Good Judy
DESCRIPTION:Every Wednesday! \nNO COVER \n*proof of double vax required for entry*
URL:https://www.pianyc.net/event/piano-bar-night-with-nina-at-good-judy-2/
LOCATION:Good Judy\, 563 5th Avenue\, New York\, NY\, NY 11215\, United States
CATEGORIES:Live Musical Performance
ATTACH;FMTTYPE=image/jpeg:https://img.evbuc.com/https%3A%2F%2Fcdn.evbuc.com%2Fimages%2F457319499%2F480714172955%2F1%2Foriginal.20230228-200510?w=1000&auto=format%2Ccompress&q=75&sharp=10&rect=0%2C0%2C1080%2C540&s=1c6faefc4234863ed22ab16279960f3f
GEO:40.665252;-73.9892404
X-APPLE-STRUCTURED-LOCATION;VALUE=URI;X-ADDRESS=Good Judy 563 5th Avenue New York NY NY 11215 United States;X-APPLE-RADIUS=500;X-TITLE=563 5th Avenue:geo:-73.9892404,40.665252
END:VEVENT
END:VCALENDAR