BEGIN:VCALENDAR
VERSION:2.0
PRODID:-//PIANYC - ECPv5.12.4//NONSGML v1.0//EN
CALSCALE:GREGORIAN
METHOD:PUBLISH
X-WR-CALNAME:PIANYC
X-ORIGINAL-URL:https://www.pianyc.net
X-WR-CALDESC:Events for PIANYC
BEGIN:VTIMEZONE
TZID:America/New_York
BEGIN:DAYLIGHT
TZOFFSETFROM:-0500
TZOFFSETTO:-0400
TZNAME:EDT
DTSTART:20240310T070000
END:DAYLIGHT
BEGIN:STANDARD
TZOFFSETFROM:-0400
TZOFFSETTO:-0500
TZNAME:EST
DTSTART:20241103T060000
END:STANDARD
END:VTIMEZONE
BEGIN:VEVENT
DTSTART;TZID=America/New_York:20241115T193000
DTEND;TZID=America/New_York:20241115T213000
DTSTAMP:20260420T103351
CREATED:20240805T185641Z
LAST-MODIFIED:20240806T003813Z
UID:168937-1731699000-1731706200@www.pianyc.net
SUMMARY:Piano 360 Featuring Marilyn Nonken at The DiMenna Center for Classical Music
DESCRIPTION:Piano 360 is a groundbreaking concert featuring Marilyn Nonken\, acclaimed as “one of the greatest interpreters of new music” (American Record Guide). Her performance will showcase immersive new works surrounding the audience with a spatial audio ring of speakers\, including recent compositions by Elizabeth Hoffman\, Ellen Fishman\, Natasha Barrett\, and a remastered Alvin Lucier classic. Nonken will also perform Hugues Dufourt’s Meeresstille and Jonathan Harvey’s Tombeau de Messiaen\, highlighting her expertise in spectral music. This concert promises an evening of musical innovation and exploration. Join for a unique experience in contemporary piano music.
URL:https://www.pianyc.net/event/piano-360-featuring-marilyn-nonken-at-the-dimenna-center-for-classical-music/
LOCATION:DiMenna Center for Classical Music\, 450 West 37th St.\, New York\, NY\, 10018\, United States
CATEGORIES:Live Musical Performance
ATTACH;FMTTYPE=image/jpeg:https://img.evbuc.com/https%3A%2F%2Fcdn.evbuc.com%2Fimages%2F818298179%2F971042727753%2F1%2Foriginal.20240731-230749?w=1000&auto=format%2Ccompress&q=75&sharp=10&rect=16%2C0%2C2160%2C1080&s=221308ee38ee7865c0476a3e68da56b8
GEO:40.7560618;-73.997348
X-APPLE-STRUCTURED-LOCATION;VALUE=URI;X-ADDRESS=DiMenna Center for Classical Music 450 West 37th St. New York NY 10018 United States;X-APPLE-RADIUS=500;X-TITLE=450 West 37th St.:geo:-73.997348,40.7560618
END:VEVENT
END:VCALENDAR