BEGIN:VCALENDAR
VERSION:2.0
PRODID:-//PIANYC - ECPv5.12.4//NONSGML v1.0//EN
CALSCALE:GREGORIAN
METHOD:PUBLISH
X-WR-CALNAME:PIANYC
X-ORIGINAL-URL:https://www.pianyc.net
X-WR-CALDESC:Events for PIANYC
BEGIN:VTIMEZONE
TZID:America/New_York
BEGIN:DAYLIGHT
TZOFFSETFROM:-0500
TZOFFSETTO:-0400
TZNAME:EDT
DTSTART:20220313T070000
END:DAYLIGHT
BEGIN:STANDARD
TZOFFSETFROM:-0400
TZOFFSETTO:-0500
TZNAME:EST
DTSTART:20221106T060000
END:STANDARD
END:VTIMEZONE
BEGIN:VEVENT
DTSTART;TZID=America/New_York:20221013T200000
DTEND;TZID=America/New_York:20221013T213000
DTSTAMP:20260420T083148
CREATED:20220803T020659Z
LAST-MODIFIED:20220803T022952Z
UID:133209-1665691200-1665696600@www.pianyc.net
SUMMARY:Per Tengstrand 2022/23 Season\, at Scandinavia House
DESCRIPTION:Music on Park Avenue returns this fall! The series presented by Scandinavia House and Per Tengstrand welcomes audiences back to Victor Borge Hall beginning in October for another season of its popular performances. Held monthly on Thursday evenings\, concerts will include beautiful music at 7:30 preceded by a conversation by Tengstrand about the pieces and composer. \nThe series kicks off with “Beethoven’s Waldstein & Appassionata” on October 13 and will continue with performances on November 17\, December 1\, January 19\, February 23\, March 23\, and April 20. For program announcements\, please subscribe to the Scandinavia House newsletter at scandinaviahouse.org. Tickets to this series must be purchased in advance online; concerts will take place in Victor Borge Hall. \nA season pass for all performances is now available at the link above; tickets to individual concerts will be added closer to the date. Check back to this page soon for individual tickets. \nThe Music on Park Avenue concert series is supported in part by a generous grant from The Barbro Osher Pro Suecia Foundation and in part by the Lynn Carter Fund of the ASF. \n Thanks to a generous loan by Victor Borge’s grandson Finn\, concerts will be performed on Victor Borge’s personal Steinway piano.
URL:https://www.pianyc.net/event/per-tengstrand-2022-23-season-at-scandinavia-house/
LOCATION:Scandinavia House\, 58 Park Avenue\, New York\, NY\, 10016\, United States
CATEGORIES:Live Musical Performance
ATTACH;FMTTYPE=image/jpeg:https://www.scandinaviahouse.org/wp-content/uploads/2015/09/Courtesy-of-Per-Tengstrand2.jpg
GEO:40.7494353;-73.9800399
X-APPLE-STRUCTURED-LOCATION;VALUE=URI;X-ADDRESS=Scandinavia House 58 Park Avenue New York NY 10016 United States;X-APPLE-RADIUS=500;X-TITLE=58 Park Avenue:geo:-73.9800399,40.7494353
END:VEVENT
END:VCALENDAR