BEGIN:VCALENDAR
VERSION:2.0
PRODID:-//PIANYC - ECPv5.12.4//NONSGML v1.0//EN
CALSCALE:GREGORIAN
METHOD:PUBLISH
X-WR-CALNAME:PIANYC
X-ORIGINAL-URL:https://www.pianyc.net
X-WR-CALDESC:Events for PIANYC
BEGIN:VTIMEZONE
TZID:America/New_York
BEGIN:DAYLIGHT
TZOFFSETFROM:-0500
TZOFFSETTO:-0400
TZNAME:EDT
DTSTART:20220313T070000
END:DAYLIGHT
BEGIN:STANDARD
TZOFFSETFROM:-0400
TZOFFSETTO:-0500
TZNAME:EST
DTSTART:20221106T060000
END:STANDARD
END:VTIMEZONE
BEGIN:VEVENT
DTSTART;TZID=America/New_York:20220903T193000
DTEND;TZID=America/New_York:20220903T213000
DTSTAMP:20260421T080934
CREATED:20220807T150734Z
LAST-MODIFIED:20220807T150734Z
UID:134337-1662233400-1662240600@www.pianyc.net
SUMMARY:Pepperwine\, at Montclair Brewery
DESCRIPTION:  \nWith four members and eight hands\, Pepperwine uses voice\, piano\, synthesizer\, guitar\, bass\, and percussion to create hip shaking-rhythms and head-nodding tunes. Their catalog of music effortlessly blends elements of soul\, pop\, funk\, and rock with Leading Lady Kellie offering a powerful yet sultry vocal. \nThe four-piece band has played 202 live shows at venues and festivals throughout New Jersey\, Pennsylvania\, New York\, Connecticut\, and Delaware. The repertoire continues to grow\, the grooves are getting more infectious… stay tuned! \n 
URL:https://www.pianyc.net/event/pepperwine-at-montclair-brewery/
LOCATION:Montclair Brewery\, 101 Walnut St\, New York\, NY\, NJ 07042\,\, United States
CATEGORIES:Live Musical Performance
ATTACH;FMTTYPE=image/jpeg:https://img.evbuc.com/https%3A%2F%2Fcdn.evbuc.com%2Fimages%2F323048489%2F322577861591%2F1%2Foriginal.20220722-181612?w=1000&auto=format%2Ccompress&q=75&sharp=10&rect=0%2C0%2C1440%2C720&s=dcab7f49f8873c497c51ec68ced65e86
GEO:40.6394911;-74.1091994
X-APPLE-STRUCTURED-LOCATION;VALUE=URI;X-ADDRESS=Montclair Brewery 101 Walnut St New York NY NJ 07042 United States;X-APPLE-RADIUS=500;X-TITLE=101 Walnut St:geo:-74.1091994,40.6394911
END:VEVENT
END:VCALENDAR