BEGIN:VCALENDAR
VERSION:2.0
PRODID:-//PIANYC - ECPv5.12.4//NONSGML v1.0//EN
CALSCALE:GREGORIAN
METHOD:PUBLISH
X-WR-CALNAME:PIANYC
X-ORIGINAL-URL:https://www.pianyc.net
X-WR-CALDESC:Events for PIANYC
BEGIN:VTIMEZONE
TZID:America/New_York
BEGIN:DAYLIGHT
TZOFFSETFROM:-0500
TZOFFSETTO:-0400
TZNAME:EDT
DTSTART:20250309T070000
END:DAYLIGHT
BEGIN:STANDARD
TZOFFSETFROM:-0400
TZOFFSETTO:-0500
TZNAME:EST
DTSTART:20251102T060000
END:STANDARD
END:VTIMEZONE
BEGIN:VEVENT
DTSTART;TZID=America/New_York:20251019T183000
DTEND;TZID=America/New_York:20251019T183000
DTSTAMP:20260422T222320
CREATED:20250827T013751Z
LAST-MODIFIED:20250904T011153Z
UID:186521-1760898600-1760898600@www.pianyc.net
SUMMARY:Pelosi and Pianists: Repertory and New Works\, at Merkin Concert Hall at Kaufman Music Center
DESCRIPTION:Repertory and world premiere works for piano featuring pianists Sharon Chang and Meteusz Borowiak and composer Louis Pelosi. \nSharon Chang\, piano\nMateusz Borowiak\, piano \nRAVEL – Gaspard de la Nuit\nPELOSI – Sonata No. 10 in F (world premiere)\nBRAHMS – Sonata in F-sharp Minor\, Op. 2\nPELOSI – Sonata/Fantasy No. 1 in B-flat (world premiere)
URL:https://www.pianyc.net/event/pelosi-and-pianists-repertory-and-new-works-at-merkin-concert-hall-at-kaufman-music-center/
LOCATION:Merkin Concert Hall at Kaufman Music Center\, 129 W 67th St\, New York\, NY\, 10036\, United States
CATEGORIES:Live Musical Performance
ATTACH;FMTTYPE=image/jpeg:https://www.kaufmanmusiccenter.org/images/uploads/events/_medium/20251019_Pelosi_1200x1200.jpeg
GEO:40.7752368;-73.9830916
X-APPLE-STRUCTURED-LOCATION;VALUE=URI;X-ADDRESS=Merkin Concert Hall at Kaufman Music Center 129 W 67th St New York NY 10036 United States;X-APPLE-RADIUS=500;X-TITLE=129 W 67th St:geo:-73.9830916,40.7752368
END:VEVENT
END:VCALENDAR