BEGIN:VCALENDAR
VERSION:2.0
PRODID:-//PIANYC - ECPv5.12.4//NONSGML v1.0//EN
CALSCALE:GREGORIAN
METHOD:PUBLISH
X-WR-CALNAME:PIANYC
X-ORIGINAL-URL:https://www.pianyc.net
X-WR-CALDESC:Events for PIANYC
BEGIN:VTIMEZONE
TZID:America/New_York
BEGIN:DAYLIGHT
TZOFFSETFROM:-0500
TZOFFSETTO:-0400
TZNAME:EDT
DTSTART:20240310T070000
END:DAYLIGHT
BEGIN:STANDARD
TZOFFSETFROM:-0400
TZOFFSETTO:-0500
TZNAME:EST
DTSTART:20241103T060000
END:STANDARD
END:VTIMEZONE
BEGIN:VEVENT
DTSTART;TZID=America/New_York:20240127T190000
DTEND;TZID=America/New_York:20240127T203000
DTSTAMP:20260421T065708
CREATED:20230918T205509Z
LAST-MODIFIED:20230929T193814Z
UID:154985-1706382000-1706387400@www.pianyc.net
SUMMARY:Orpheus Chamber Orchestra; Nobuyuki Tsujii\, Piano at Carnegie Hall
DESCRIPTION:Performers\nOrpheus Chamber Orchestra\nNobuyuki Tsujii\, Piano \nBeing born blind has not stopped pianist Nobuyuki Tsujii from launching a career as an international soloist. He returns alongside Orpheus Chamber Orchestra to perform a custom arrangement of the Chopin’s First Piano Concerto by Shuying Li that makes this democratically run chamber orchestra an equal partner in the music. In addition is an arrangement of Schumann’s Carnaval and a new work from Natalie Joachim in a celebration of her Haitian culture. \nProgram\nNATHALIE JOACHIM New work\nCHOPIN Piano Concerto No. 1 in E Minor (arr. Shuying Li)\nR. SCHUMANN Carnaval (arr. Zachary Wadsworth\, NY Premiere of arrangement)
URL:https://www.pianyc.net/event/orpheus-chamber-orchestra-nobuyuki-tsujii-piano-at-carnegie-hall-2/
LOCATION:Carnegie Hall\, 881 Seventh Avenue\, New York\, NY\, 10019\, United States
CATEGORIES:Live Musical Performance
ATTACH;FMTTYPE=image/jpeg:https://carnegiehall.imgix.net:443/-/media/CarnegieHall/Images/Events/2023-2024-Rentals/orpheus-jan-27.jpg
GEO:40.764938;-73.979897
X-APPLE-STRUCTURED-LOCATION;VALUE=URI;X-ADDRESS=Carnegie Hall 881 Seventh Avenue New York NY 10019 United States;X-APPLE-RADIUS=500;X-TITLE=881 Seventh Avenue:geo:-73.979897,40.764938
END:VEVENT
END:VCALENDAR