BEGIN:VCALENDAR
VERSION:2.0
PRODID:-//PIANYC - ECPv5.12.4//NONSGML v1.0//EN
CALSCALE:GREGORIAN
METHOD:PUBLISH
X-WR-CALNAME:PIANYC
X-ORIGINAL-URL:https://www.pianyc.net
X-WR-CALDESC:Events for PIANYC
BEGIN:VTIMEZONE
TZID:America/New_York
BEGIN:DAYLIGHT
TZOFFSETFROM:-0500
TZOFFSETTO:-0400
TZNAME:EDT
DTSTART:20230312T070000
END:DAYLIGHT
BEGIN:STANDARD
TZOFFSETFROM:-0400
TZOFFSETTO:-0500
TZNAME:EST
DTSTART:20231105T060000
END:STANDARD
END:VTIMEZONE
BEGIN:VEVENT
DTSTART;TZID=America/New_York:20230521T140000
DTEND;TZID=America/New_York:20230521T150000
DTSTAMP:20260421T063502
CREATED:20230520T235218Z
LAST-MODIFIED:20230520T235218Z
UID:149758-1684677600-1684681200@www.pianyc.net
SUMMARY:Organ Concert at Marble Collegiate Church
DESCRIPTION:Between guided tours\, Marble Collegiate Church is inviting the public to enjoy an organ concert performed by Kenneth V. Dake\, Director of Music at Marble Collegiate Church for 27 years. \nMarble Collegiate Church features an Opus 20 Pipe Organ built by Sebastian Gluck\, dedicated in October 2015. The organ has 4 manuals\, 101 ranks\, and nearly 6500 pipes. Lights will be dimmed during the performance so guests can view a live feed featuring the performers’ footwork while playing the organ. \n“It is a “surround sound” instrument\, with 8 separate divisions: the Gallery Organ (back) contains the Great\, Choir\, Swell\, Solo\, and Pedal divisions. The Chancel Organ (front) contains the Apse\, Chancel\, and Chancel Pedal divisions. Scattered throughout those divisions are many colorful solo stops\, including Oboe (Hautboy)\, Clarinet\, Doppelflöte (a wooden flute with two mouths per pipe)\, a Tuba Magna in the style of English Cathedral organs\, etc.”
URL:https://www.pianyc.net/event/organ-concert-at-marble-collegiate-church/
LOCATION:Marble Collegiate Church\, 1 W. 29th St.\, New York\, NY\, 10001\, United States
CATEGORIES:Live Musical Performance
ATTACH;FMTTYPE=image/jpeg:https://img.evbuc.com/https%3A%2F%2Fcdn.evbuc.com%2Fimages%2F506613039%2F3100887324%2F1%2Foriginal.20230503-135139?w=1000&auto=format%2Ccompress&q=75&sharp=10&rect=0%2C188%2C1050%2C525&s=4c808b80d0ec79c60b49b778732b82af
GEO:40.7457812;-73.9874759
X-APPLE-STRUCTURED-LOCATION;VALUE=URI;X-ADDRESS=Marble Collegiate Church 1 W. 29th St. New York NY 10001 United States;X-APPLE-RADIUS=500;X-TITLE=1 W. 29th St.:geo:-73.9874759,40.7457812
END:VEVENT
END:VCALENDAR