BEGIN:VCALENDAR
VERSION:2.0
PRODID:-//PIANYC - ECPv5.12.4//NONSGML v1.0//EN
CALSCALE:GREGORIAN
METHOD:PUBLISH
X-WR-CALNAME:PIANYC
X-ORIGINAL-URL:https://www.pianyc.net
X-WR-CALDESC:Events for PIANYC
BEGIN:VTIMEZONE
TZID:America/New_York
BEGIN:DAYLIGHT
TZOFFSETFROM:-0500
TZOFFSETTO:-0400
TZNAME:EDT
DTSTART:20250309T070000
END:DAYLIGHT
BEGIN:STANDARD
TZOFFSETFROM:-0400
TZOFFSETTO:-0500
TZNAME:EST
DTSTART:20251102T060000
END:STANDARD
END:VTIMEZONE
BEGIN:VEVENT
DTSTART;TZID=America/New_York:20250629T150000
DTEND;TZID=America/New_York:20250629T163000
DTSTAMP:20260422T133420
CREATED:20250622T154735Z
LAST-MODIFIED:20250629T201629Z
UID:182499-1751209200-1751214600@www.pianyc.net
SUMMARY:OnDream Ensemble in New York\, at Merkin Concert Hall
DESCRIPTION:* Admission: FREE (Pre-registration is required) \nThe OnDream Ensemble\, established in 2014\, is a prestigious initiative of the Hyundai Motor Chung Mong-Koo Foundation (CMK Foundation)\, dedicated to nurturing the artistic talents of scholarship students specializing in classical music. The program provides an array of opportunities designed to enhance the students’ skills and capabilities\, including educational initiatives led by renowned musicians\, such as music camps and master classes\, as well as performance activities like the OnDream concerts and chamber music series. \nThis summer\, eleven members of the OnDream Ensemble will embark on a new chapter of international collaboration. Following the Ensemble’s European debut last year(2024) at the Verbier Festival\, these special programs in the USA\, presented by the CMK Foundation\, offer each student a unique opportunity to gain invaluable experience and achieve significant growth\, paving the way for their future success as global musicians. \nDayeon Kim\, violin\nHyunseo Kim\, violin\nYoungchae Joh\, viola\nYe-won Cho\, cello\nYewon Nam\, flute\nHyemin Choi\, horn\nJongbin Park\, trombone\nInho Gi\, piano\nHaerim Park\, piano\nYeyoung Yoon\, soprano\nHanseong Kim\, tenor\nFaculty: Yerin Lee\, flute \nBRUCE STARK – Suite for Horn\, Trombone\, and Piano\nMAURICE RAVEL – Ma mère l’Oye for Piano 4 hands\nJULIUS BENEDICT – La Capinera\nGAETANO DONIZETTI – Ah! Mes amis\nGARY SCHOCKER – Three Dances for Two Flutes and Piano\nALEXANGER BORODIN – String Quartet No. 2 in D Major
URL:https://www.pianyc.net/event/ondream-ensemble-in-new-york-at-merkin-concert-hall/
LOCATION:Merkin Concert Hall at Kaufman Music Center\, 129 W 67th St\, New York\, NY\, 10036\, United States
CATEGORIES:Live Musical Performance
ATTACH;FMTTYPE=image/jpeg:https://www.kaufmanmusiccenter.org/images/uploads/events/_medium/20250629_OnDream_1200x1200.jpg
GEO:40.7752368;-73.9830916
X-APPLE-STRUCTURED-LOCATION;VALUE=URI;X-ADDRESS=Merkin Concert Hall at Kaufman Music Center 129 W 67th St New York NY 10036 United States;X-APPLE-RADIUS=500;X-TITLE=129 W 67th St:geo:-73.9830916,40.7752368
END:VEVENT
END:VCALENDAR