BEGIN:VCALENDAR
VERSION:2.0
PRODID:-//PIANYC - ECPv5.12.4//NONSGML v1.0//EN
CALSCALE:GREGORIAN
METHOD:PUBLISH
X-WR-CALNAME:PIANYC
X-ORIGINAL-URL:https://www.pianyc.net
X-WR-CALDESC:Events for PIANYC
BEGIN:VTIMEZONE
TZID:America/New_York
BEGIN:DAYLIGHT
TZOFFSETFROM:-0500
TZOFFSETTO:-0400
TZNAME:EDT
DTSTART:20250309T070000
END:DAYLIGHT
BEGIN:STANDARD
TZOFFSETFROM:-0400
TZOFFSETTO:-0500
TZNAME:EST
DTSTART:20251102T060000
END:STANDARD
END:VTIMEZONE
BEGIN:VEVENT
DTSTART;TZID=America/New_York:20250201T180000
DTEND;TZID=America/New_York:20250201T193000
DTSTAMP:20260421T121114
CREATED:20241229T204227Z
LAST-MODIFIED:20241229T204227Z
UID:176413-1738432800-1738438200@www.pianyc.net
SUMMARY:Omar Sosa\, Piano and Seckou Keita\, Kora at Carnegie Hall
DESCRIPTION:Performers\nOmar Sosa\, Piano\nSeckou Keita\, Kora\nwith Gustavo Ovalles\, Percussion\nKrista Tippett\, Host \nExperience the transportive power of music in a Well-Being Concert specially programmed for Carnegie Hall’s immersive Zankel Hall Center Stage. Hosted by National Humanities Medal recipient and Peabody Award–winning journalist\, author\, and radio host Krista Tippett\, the performance features a breathtaking collaboration between Cuban jazz pianist Omar Sosa\, Senegalese kora master Seckou Keita\, and Venezuelan percussion virtuoso Gustavo Ovalles. After the trio’s recent Tiny Desk Concert\, NPR wrote\, “We’ve had hundreds of different voices and instruments … but [this performance] sounded as if it was dropped directly from the heavens of musical compatibility … the Tiny Desk was a weigh station along an ancient musical route connecting our imaginations.” \n 
URL:https://www.pianyc.net/event/omar-sosa-piano-and-seckou-keita-kora-at-carnegie-hall/
LOCATION:Carnegie Hall\, 881 Seventh Avenue\, New York\, NY\, 10019\, United States
CATEGORIES:Live Musical Performance
ATTACH;FMTTYPE=image/jpeg:https://carnegiehall.imgix.net/-/media/CarnegieHall/Images/Events/2024-2025-CH-Presents/2025-02-01-Omar-Sosa-Seckou-Keita.jpg
GEO:40.764938;-73.979897
X-APPLE-STRUCTURED-LOCATION;VALUE=URI;X-ADDRESS=Carnegie Hall 881 Seventh Avenue New York NY 10019 United States;X-APPLE-RADIUS=500;X-TITLE=881 Seventh Avenue:geo:-73.979897,40.764938
END:VEVENT
END:VCALENDAR