BEGIN:VCALENDAR
VERSION:2.0
PRODID:-//PIANYC - ECPv5.12.4//NONSGML v1.0//EN
CALSCALE:GREGORIAN
METHOD:PUBLISH
X-WR-CALNAME:PIANYC
X-ORIGINAL-URL:https://www.pianyc.net
X-WR-CALDESC:Events for PIANYC
BEGIN:VTIMEZONE
TZID:America/New_York
BEGIN:DAYLIGHT
TZOFFSETFROM:-0500
TZOFFSETTO:-0400
TZNAME:EDT
DTSTART:20240310T070000
END:DAYLIGHT
BEGIN:STANDARD
TZOFFSETFROM:-0400
TZOFFSETTO:-0500
TZNAME:EST
DTSTART:20241103T060000
END:STANDARD
END:VTIMEZONE
BEGIN:VEVENT
DTSTART;TZID=America/New_York:20240207T193000
DTEND;TZID=America/New_York:20240207T210000
DTSTAMP:20260422T043849
CREATED:20230813T120934Z
LAST-MODIFIED:20230813T120934Z
UID:153162-1707334200-1707339600@www.pianyc.net
SUMMARY:NY Phil Ensembles at Merkin Concert Hall
DESCRIPTION:Artists\nCameron Carpenter Organ \nProgram\nJ.S. Bach / Arr. Cameron Carpenter Goldberg\nMusorgsky / Arr. Cameron Carpenter Pictures at an Exhibition \nExperience J.S. Bach‘s
URL:https://www.pianyc.net/event/ny-phil-ensembles-at-merkin-concert-hall/
LOCATION:David Geffen Hall at Lincoln Center\, 132 West 65th Street\, New York\, NY\, 10023\, United States
CATEGORIES:Live Musical Performance
ATTACH;FMTTYPE=image/jpeg:https://res.cloudinary.com/nyphil/image/upload/f_auto,q_auto/v1689782924/images/concerts-tickets/calendar/2324/2021-04-05_Cameron_Carpenter_Foto_Dovile_Sermokas_187A0012.jpg
GEO:40.7731303;-73.9830865
X-APPLE-STRUCTURED-LOCATION;VALUE=URI;X-ADDRESS=David Geffen Hall at Lincoln Center 132 West 65th Street New York NY 10023 United States;X-APPLE-RADIUS=500;X-TITLE=132 West 65th Street:geo:-73.9830865,40.7731303
END:VEVENT
END:VCALENDAR