BEGIN:VCALENDAR
VERSION:2.0
PRODID:-//PIANYC - ECPv5.12.4//NONSGML v1.0//EN
CALSCALE:GREGORIAN
METHOD:PUBLISH
X-WR-CALNAME:PIANYC
X-ORIGINAL-URL:https://www.pianyc.net
X-WR-CALDESC:Events for PIANYC
BEGIN:VTIMEZONE
TZID:America/New_York
BEGIN:DAYLIGHT
TZOFFSETFROM:-0500
TZOFFSETTO:-0400
TZNAME:EDT
DTSTART:20230312T070000
END:DAYLIGHT
BEGIN:STANDARD
TZOFFSETFROM:-0400
TZOFFSETTO:-0500
TZNAME:EST
DTSTART:20231105T060000
END:STANDARD
END:VTIMEZONE
BEGIN:VEVENT
DTSTART;TZID=America/New_York:20231119T150000
DTEND;TZID=America/New_York:20231119T163000
DTSTAMP:20260420T083121
CREATED:20230813T120956Z
LAST-MODIFIED:20230813T120956Z
UID:153161-1700406000-1700411400@www.pianyc.net
SUMMARY:NY Phil Ensembles at Merkin Concert Hall
DESCRIPTION:ProgramSchubert String Quartet in G minor\, D.173\nMozart Oboe Quartet\nDvořák Piano Trio in F minor \nEnsembles of Philharmonic musicians perform in intimate Merkin Hall. Hear the individual talents that make up the Orchestra and experience the passion and personality of the performers with a program that includes works by Schubert\, Mozart\, and Dvořák.\nPart of
URL:https://www.pianyc.net/event/ny-phil-ensembles-at-merkin-concert-hall-2/
LOCATION:Merkin Concert Hall at Kaufman Music Center\, 129 W 67th St\, New York\, NY\, 10036\, United States
CATEGORIES:Live Musical Performance
ATTACH;FMTTYPE=image/jpeg:https://res.cloudinary.com/nyphil/image/upload/f_auto,q_auto/v1689862042/images/concerts-tickets/calendar/2324/220220B-061.jpg
GEO:40.7752368;-73.9830916
X-APPLE-STRUCTURED-LOCATION;VALUE=URI;X-ADDRESS=Merkin Concert Hall at Kaufman Music Center 129 W 67th St New York NY 10036 United States;X-APPLE-RADIUS=500;X-TITLE=129 W 67th St:geo:-73.9830916,40.7752368
END:VEVENT
END:VCALENDAR