BEGIN:VCALENDAR
VERSION:2.0
PRODID:-//PIANYC - ECPv5.12.4//NONSGML v1.0//EN
CALSCALE:GREGORIAN
METHOD:PUBLISH
X-WR-CALNAME:PIANYC
X-ORIGINAL-URL:https://www.pianyc.net
X-WR-CALDESC:Events for PIANYC
BEGIN:VTIMEZONE
TZID:America/New_York
BEGIN:DAYLIGHT
TZOFFSETFROM:-0500
TZOFFSETTO:-0400
TZNAME:EDT
DTSTART:20230312T070000
END:DAYLIGHT
BEGIN:STANDARD
TZOFFSETFROM:-0400
TZOFFSETTO:-0500
TZNAME:EST
DTSTART:20231105T060000
END:STANDARD
END:VTIMEZONE
BEGIN:VEVENT
DTSTART;TZID=America/New_York:20231022T140000
DTEND;TZID=America/New_York:20231022T153000
DTSTAMP:20260423T073927
CREATED:20231021T233851Z
LAST-MODIFIED:20231021T233851Z
UID:156317-1697983200-1697988600@www.pianyc.net
SUMMARY:Notos Piano Quartet at the New School
DESCRIPTION:The Schneider Concerts presents a rare New York performance by Germany’s celebrated Notos Piano Quartet. The performance includes Schumann’s Piano Quartet in E-flat major\, Brahm’s Piano Quartet No. 1 in G Minor\, and the U.S. premiere of Bryce Dessner’s “Spirals.” The performance is the opening concert of the Schneider Concerts 6-concert 2023-2024 chamber music season.
URL:https://www.pianyc.net/event/notos-piano-quartet-at-the-new-school/
LOCATION:Alvin Johnson/J.M. Kaplan Hall\, 66 West 12th Street\, New York\, NY\, 10011\, United States
ATTACH;FMTTYPE=image/jpeg:https://www.germany.info/image/2615398/123x55/1230/550/302be5ca7670b5154c686feb7c5e9a06/vC/notos-quartett.jpg
GEO:40.7355009;-73.9971383
X-APPLE-STRUCTURED-LOCATION;VALUE=URI;X-ADDRESS=Alvin Johnson/J.M. Kaplan Hall 66 West 12th Street New York NY 10011 United States;X-APPLE-RADIUS=500;X-TITLE=66 West 12th Street:geo:-73.9971383,40.7355009
END:VEVENT
END:VCALENDAR