BEGIN:VCALENDAR
VERSION:2.0
PRODID:-//PIANYC - ECPv5.12.4//NONSGML v1.0//EN
CALSCALE:GREGORIAN
METHOD:PUBLISH
X-WR-CALNAME:PIANYC
X-ORIGINAL-URL:https://www.pianyc.net
X-WR-CALDESC:Events for PIANYC
BEGIN:VTIMEZONE
TZID:America/New_York
BEGIN:DAYLIGHT
TZOFFSETFROM:-0500
TZOFFSETTO:-0400
TZNAME:EDT
DTSTART:20220313T070000
END:DAYLIGHT
BEGIN:STANDARD
TZOFFSETFROM:-0400
TZOFFSETTO:-0500
TZNAME:EST
DTSTART:20221106T060000
END:STANDARD
END:VTIMEZONE
BEGIN:VEVENT
DTSTART;TZID=America/New_York:20221028T193000
DTEND;TZID=America/New_York:20221028T210000
DTSTAMP:20260420T104133
CREATED:20221024T153339Z
LAST-MODIFIED:20221024T155907Z
UID:140418-1666985400-1666990800@www.pianyc.net
SUMMARY:Film: Nosferatu (1922) with a Live Score at Threes Brewing
DESCRIPTION:Due to overwhelming demand in recent years\, Threes Brewing is bringing Tenth Intervention (Hajnal Pivnick\, violin/Dorian Wallace\, piano) for a special screening of the 1922 vampire horror film classic Nosferatu. A masterpiece of German Expressionism\, the power and beauty of F.W. Murnau’s unauthorized adaptation of Dracula has not diminished in the slightest almost a century since its original release. \nPerforming a haunting original score\, Tenth Intervention resurrects Count Orlock for one night only\, on October 28 at 7:30pm\, at Threes. Dir. F.W. Murnau. 94 min. 1922.
URL:https://www.pianyc.net/event/nosferatu-1922-with-a-live-score-at-threes-brewing/
LOCATION:Threes Brewing Greenpoint Bar & Beer Shop\, 113 Franklin St.\, New York\, NY\, 11222\, United States
CATEGORIES:Film,Live Musical Performance
ATTACH;FMTTYPE=image/jpeg:https://img.evbuc.com/https%3A%2F%2Fcdn.evbuc.com%2Fimages%2F365780519%2F13647668593%2F1%2Foriginal.20221003-145526?w=1000&auto=format%2Ccompress&q=75&sharp=10&rect=0%2C0%2C1248%2C624&s=e80f09f019da93b5f769868f425d284b
GEO:40.7301625;-73.9579347
X-APPLE-STRUCTURED-LOCATION;VALUE=URI;X-ADDRESS=Threes Brewing Greenpoint Bar & Beer Shop 113 Franklin St. New York NY 11222 United States;X-APPLE-RADIUS=500;X-TITLE=113 Franklin St.:geo:-73.9579347,40.7301625
END:VEVENT
END:VCALENDAR