BEGIN:VCALENDAR
VERSION:2.0
PRODID:-//PIANYC - ECPv5.12.4//NONSGML v1.0//EN
CALSCALE:GREGORIAN
METHOD:PUBLISH
X-WR-CALNAME:PIANYC
X-ORIGINAL-URL:https://www.pianyc.net
X-WR-CALDESC:Events for PIANYC
BEGIN:VTIMEZONE
TZID:America/New_York
BEGIN:DAYLIGHT
TZOFFSETFROM:-0500
TZOFFSETTO:-0400
TZNAME:EDT
DTSTART:20250309T070000
END:DAYLIGHT
BEGIN:STANDARD
TZOFFSETFROM:-0400
TZOFFSETTO:-0500
TZNAME:EST
DTSTART:20251102T060000
END:STANDARD
END:VTIMEZONE
BEGIN:VEVENT
DTSTART;TZID=America/New_York:20250628T170000
DTEND;TZID=America/New_York:20250628T183000
DTSTAMP:20260422T114459
CREATED:20250616T021953Z
LAST-MODIFIED:20250622T033719Z
UID:181840-1751130000-1751135400@www.pianyc.net
SUMMARY:Nina Simone tribute: Feeling Good at PianoPiano Rehearsal Studios
DESCRIPTION:Join in a Nina Simone tribute recital at Piano piano where we will explore some of her greatest hits! \nPerformer bios: \nDr. Jelena Cingara is an active performer and artist in the United States\, Canada\, and European countries such as Italy\, France\, and Czech Republic. Her career includes a series of solo\, chamber\, and collaborative international and national recitals\, and over 25 years of piano teaching. \nWebsite: https://www.pianolessonsnyc.space \nhttps://www.youtube.com/channel/UCWNCjLBOiaIp4grn4fd7VeQ \nNYC – based artist Leah Hinton released her new R&B Pop single “Away”\, with her official music video. A song of transformation\, “Away” celebrates a newness of self. Liberating and refreshing\, the song feels like a cool breeze on a hot summer day\, lifting us up and carrying us away on its scripture-inspired journey of growth and change.
URL:https://www.pianyc.net/event/nina-simone-tribute-feeling-good-at-pianopiano-rehearsal-studios/
LOCATION:PianoPiano Rehearsal Studios\, 37 W 65th St 4th Floor\, New York\, NY\, 10023\, United States
CATEGORIES:Live Musical Performance
ATTACH;FMTTYPE=image/jpeg:https://img.evbuc.com/https%3A%2F%2Fcdn.evbuc.com%2Fimages%2F1048848003%2F188222737359%2F1%2Foriginal.20250609-122819?crop=focalpoint&fit=crop&w=1000&auto=format%2Ccompress&q=75&sharp=10&fp-x=0.5&fp-y=0.5&s=9552e117e1b3e26772ecfecb747e8507
GEO:40.7727462;-73.9812422
X-APPLE-STRUCTURED-LOCATION;VALUE=URI;X-ADDRESS=PianoPiano Rehearsal Studios 37 W 65th St 4th Floor New York NY 10023 United States;X-APPLE-RADIUS=500;X-TITLE=37 W 65th St 4th Floor:geo:-73.9812422,40.7727462
END:VEVENT
END:VCALENDAR