BEGIN:VCALENDAR
VERSION:2.0
PRODID:-//PIANYC - ECPv5.12.4//NONSGML v1.0//EN
CALSCALE:GREGORIAN
METHOD:PUBLISH
X-WR-CALNAME:PIANYC
X-ORIGINAL-URL:https://www.pianyc.net
X-WR-CALDESC:Events for PIANYC
BEGIN:VTIMEZONE
TZID:America/New_York
BEGIN:DAYLIGHT
TZOFFSETFROM:-0500
TZOFFSETTO:-0400
TZNAME:EDT
DTSTART:20240310T070000
END:DAYLIGHT
BEGIN:STANDARD
TZOFFSETFROM:-0400
TZOFFSETTO:-0500
TZNAME:EST
DTSTART:20241103T060000
END:STANDARD
END:VTIMEZONE
BEGIN:VEVENT
DTSTART;TZID=America/New_York:20241006T140000
DTEND;TZID=America/New_York:20241006T153000
DTSTAMP:20260422T064526
CREATED:20240815T161225Z
LAST-MODIFIED:20240815T163339Z
UID:169615-1728223200-1728228600@www.pianyc.net
SUMMARY:Nikita Galaktionov Solo Recital at Carnegie Hall
DESCRIPTION:Performer\nNikita Galaktionov\, Piano \nPianist Nikita Galaktionov returns to Weill Recital Hall to present “Parisian Friends\,” an evening of selected works by Franz Liszt and Frédéric Chopin. Liszt and Chopin met in Paris as young composers\, both performing in various salons throughout the city. \nProgram\nProgram to include:\nCHOPIN Barcarolle in F-sharp Major\, Op. 60\nCHOPIN Polonaise in C-sharp Minor\, Op. 26\, No. 1\nLISZT Liebesträume\nLISZT Etude No. 3 in G-sharp Minor\, “La campanella” from Grandes études de Paganini
URL:https://www.pianyc.net/event/nikita-galaktionov-solo-recital-at-carnegie-hall/
LOCATION:Carnegie Hall\, 881 Seventh Avenue\, New York\, NY\, 10019\, United States
CATEGORIES:Live Musical Performance
ATTACH;FMTTYPE=image/jpeg:https://carnegiehall.imgix.net:443/-/media/CarnegieHall/Images/Events/2024-2025-Rentals/galaktionov-oct-6.jpg
GEO:40.764938;-73.979897
X-APPLE-STRUCTURED-LOCATION;VALUE=URI;X-ADDRESS=Carnegie Hall 881 Seventh Avenue New York NY 10019 United States;X-APPLE-RADIUS=500;X-TITLE=881 Seventh Avenue:geo:-73.979897,40.764938
END:VEVENT
END:VCALENDAR